BEGIN:VCALENDAR
VERSION:2.0
PRODID:-//jEvents 2.0 for Joomla//EN
CALSCALE:GREGORIAN
METHOD:PUBLISH
BEGIN:VEVENT
UID:67267e925f4a708b7e21230f825a7f43
CATEGORIES:Notice
CREATED:20260312T131638
SUMMARY:Public Hearing on Ordinance 2025-0901-01
DESCRIPTION:NOTICE FOR PUBLIC HEARING ON ORDINANCE 2025-0901-01 AMENDING THE VILLAGE OF
  LENNON ZONING ORDINANCE TOREGULATE DRIVEWAYS, DRIVEWAY CULVERTS, AND DITCH
 ES WITHIN THE VILLAGE OF LENNON \n \nThe Village of Lennon located at 11904
  E. Lennon Road, Lennon, Michigan 48449, will conduct a public meeting on A
 pril 13, 2026, at 6:30 p.m. at the Village of Lennon Council meeting, regar
 ding the adoption of the proposed amended Village of Lennon Driveways, Driv
 eway Culverts, and Ditches Ordinance. The proposed amended Village of Lenno
 n Driveways, Driveway Culverts, and Ditches Ordinance provides standards an
 d regulations for the installation and maintenance of driveways, driveway c
 ulverts, and ditches on any parcel and in any zoning district in the Villag
 e of Lennon. The Village of Lennon Council will take public comments on the
  proposed amended Village of Lennon Driveways, Driveway Culverts, and Ditch
 es Ordinance at 6:30 p.m. on April 13, 2026, at 6:30 p.m. A complete copy o
 f the proposed amended Village of Lennon Driveways, Driveway Culverts, and 
 Ditches Ordinance as well as all corresponding documents and a complete cop
 y of all Village of Lennon ordinances can be obtained at the Village of Len
 non Hall located at 11904 E. Lennon Road, Lennon, Michigan 48449 during bus
 iness hours and on the Village of Lennon web site at www.villageoflennon.co
 m. (http://www.villageoflennon.com/)\n
X-ALT-DESC;FMTTYPE=text/html:<h1>NOTICE FOR PUBLIC HEARING ON ORDINANCE 2025-0901-01 AMENDING THE VILLAG
 E OF LENNON ZONING ORDINANCE TO</h1><h1>REGULATE DRIVEWAYS, DRIVEWAY CULVER
 TS, AND DITCHES WITHIN THE VILLAGE OF LENNON</h1><p><strong> </strong></p><
 p><strong> </strong></p><p><span style="font-size: 18px;">The Village of Le
 nnon located at 11904 E. Lennon Road, Lennon, Michigan 48449, will conduct 
 a public meeting on April 13, 2026, at 6:30 p.m. at the Village of Lennon C
 ouncil meeting, regarding the adoption of the proposed amended Village of L
 ennon Driveways, Driveway Culverts, and Ditches Ordinance. The proposed ame
 nded Village of Lennon Driveways, Driveway Culverts, and Ditches Ordinance 
 provides standards and regulations for the installation and maintenance of 
 driveways, driveway culverts, and ditches on any parcel and in any zoning d
 istrict in the Village of Lennon. The Village of Lennon Council will take p
 ublic comments on the proposed amended Village of Lennon Driveways, Drivewa
 y Culverts, and Ditches Ordinance at 6:30 p.m. on April 13, 2026, at 6:30 p
 .m. A complete copy of the proposed amended Village of Lennon Driveways, Dr
 iveway Culverts, and Ditches Ordinance as well as all corresponding documen
 ts and a complete copy of all Village of Lennon ordinances can be obtained 
 at the Village of Lennon Hall located at 11904 E. Lennon Road, Lennon, Mich
 igan 48449 during business hours and on the Village of Lennon web site at <
 a href="http://www.villageoflennon.com/">www.villageoflennon.com.</a></span
 ></p>
DTSTAMP:20260421T170809
DTSTART;VALUE=DATE:20260313
DTEND;VALUE=DATE:20260416
SEQUENCE:0
TRANSP:OPAQUE
END:VEVENT
END:VCALENDAR