BEGIN:VCALENDAR
VERSION:2.0
PRODID:-//jEvents 2.0 for Joomla//EN
CALSCALE:GREGORIAN
METHOD:PUBLISH
BEGIN:VEVENT
UID:ffd61b34bb61237a0ba3a1efea614daa
CATEGORIES:Notice
CREATED:20260108T135005
SUMMARY:January 12, 2026 Council Meeting
DESCRIPTION:The Village of Lennon will hold its monthly Council Meeting on Monday, Janu
 ary 12, 2026 at 6:30 p.m. at the Lennon Village Hall located at 11904 Lenno
 n Rd.   \nPublic is encouraged to attend.   \n \nAgenda follows:  \n Villag
 e of LennonCouncil Meeting\nJanuary 12, 2026\n Agenda \nOpen at 6:30 P.M.\n
 Call to Order\nPledge of Allegiance\nRoll Call\nApproval Minutes of Regular
  Meeting – December 8, 2025\nApproval of the Agenda\nTreasurer’s Report\nPa
 yment of Bills and Wages \n Public Participation 1: \nReports\n\n - Police 
 Commission Report\n - Building Inspector\n - DPW Report/Building &amp; Grou
 nds\n - WWS\n - Planning Commission\n - DDA\n - Blight Committee\n - Corres
 pondence \nOld business\n\n - Village lot   78-008-70-074 behind 11636 Lenn
 on Rd (Getcy)- update New Business:   \n\n - Need new auditor\n - Need ESTA
  Policy\n - Demolition  bids  Public Participation 2:  \n         \nAdjourn
 ment:\n
X-ALT-DESC;FMTTYPE=text/html:<p>The Village of Lennon will hold its monthly Council Meeting on Monday, J
 anuary 12, 2026 at 6:30 p.m. at the Lennon Village Hall located at 11904 Le
 nnon Rd.   </p><p>Public is encouraged to attend.   </p><p> </p><p><strong>
 Agenda follows: </strong> </p><h2> </h2><h2>Village of Lennon</h2><p><stron
 g>Council Meeting</strong></p><p><strong>January 12, 2026</strong></p><h1> 
 </h1><h1>Agenda</h1><p> </p><p>Open at 6:30 P.M.</p><p>Call to Order</p><p>
 Pledge of Allegiance</p><p>Roll Call</p><p>Approval Minutes of Regular Meet
 ing – December 8, 2025</p><p>Approval of the Agenda</p><p>Treasurer’s Repor
 t</p><p>Payment of Bills and Wages </p><p><strong> </strong><strong>Public 
 Participation 1: </strong></p><p><strong>Reports</strong></p><ol><li>Police
  Commission Report</li><li>Building Inspector</li><li>DPW Report/Building &
 amp; Grounds</li><li>WWS</li><li>Planning Commission</li><li>DDA</li><li>Bl
 ight Committee</li><li>Correspondence</li></ol><p> </p><p><strong>Old busin
 ess</strong></p><ol><li>Village lot   78-008-70-074 behind 11636 Lennon Rd 
 (Getcy)- update</li></ol><p><strong> </strong><strong>New Business: </stron
 g>  </p><ol><li>Need new auditor</li><li>Need ESTA Policy</li><li>Demolitio
 n  bids  </li></ol><p><strong>Public Participation 2:  </strong></p><p><str
 ong>         </strong></p><p><strong>Adjournment:</strong></p>
DTSTAMP:20260421T184144
DTSTART;VALUE=DATE:20260110
DTEND;VALUE=DATE:20260116
SEQUENCE:0
TRANSP:OPAQUE
END:VEVENT
END:VCALENDAR