BEGIN:VCALENDAR
VERSION:2.0
PRODID:-//jEvents 2.0 for Joomla//EN
CALSCALE:GREGORIAN
METHOD:PUBLISH
BEGIN:VEVENT
UID:19fd275722e0aac86d7c4b8f1616d475
CATEGORIES:Notice
CREATED:20251202T144952
SUMMARY:Public Hearing Ordinance 2025-0901-01
DESCRIPTION:NOTICE FOR PUBLIC HEARING ON ORDINANCE 2025-0901-01 AMENDING THE VILLAGE OF
  LENNON ZONING ORDINANCE TO REGULATE DRIVEWAYS,\nDRIVEWAY CULVERTS, AND DIT
 CHES WITHIN THE VILLAGE OF LENNONThe Village of Lennon located at 11904 E. 
 Lennon Road, Lennon, Michigan 48449, will conduct a public meeting on Janua
 ry 7, 2026, at 6:30 p.m. regarding the adoption of the proposed amended Vil
 lage of Lennon Driveways, Driveway Culverts, and Ditches Ordinance. The pro
 posed amended Village of Lennon Open Burning Ordinance provides standards a
 nd regulations for the installation and maintenance of driveways, driveway 
 culverts, and ditches on any parcel and in any zoning district in the Villa
 ge of Lennon. The Village of Lennon Council will take public comments on th
 e proposed amended Village of Lennon Driveways, Driveway Culverts, and Ditc
 hes Ordinance at 6:30 p.m. on Monday, January 7, 2026, at 6:30 p.m. A compl
 ete copy of the proposed amended Village of Lennon Driveways, Driveway Culv
 erts, and Ditches Ordinance as well as all corresponding documents and a co
 mplete copy of all Village of Lennon ordinances can be obtained at the Vill
 age of Lennon Hall located at 11904 E. Lennon Road, Lennon, Michigan 48449 
 during business hours and on the Village of Lennon web site at www.villageo
 flennon.com (http://www.villageoflennon.com).\n \n
X-ALT-DESC;FMTTYPE=text/html:<p><strong>NOTICE FOR PUBLIC HEARING ON ORDINANCE 2025-0901-01 AMENDING THE
  VILLAGE OF LENNON ZONING ORDINANCE TO REGULATE DRIVEWAYS,</strong></p><h1>
 <strong>DRIVEWAY CULVERTS, AND DITCHES WITHIN THE VILLAGE OF LENNON</strong
 ></h1><p>The Village of Lennon located at 11904 E. Lennon Road, Lennon, Mic
 higan 48449, will conduct a public meeting on January 7, 2026, at 6:30 p.m.
  regarding the adoption of the proposed amended Village of Lennon Driveways
 , Driveway Culverts, and Ditches Ordinance. The proposed amended Village of
  Lennon Open Burning Ordinance provides standards and regulations for the i
 nstallation and maintenance of driveways, driveway culverts, and ditches on
  any parcel and in any zoning district in the Village of Lennon. The Villag
 e of Lennon Council will take public comments on the proposed amended Villa
 ge of Lennon Driveways, Driveway Culverts, and Ditches Ordinance at 6:30 p.
 m. on Monday, January 7, 2026, at 6:30 p.m. A complete copy of the proposed
  amended Village of Lennon Driveways, Driveway Culverts, and Ditches Ordina
 nce as well as all corresponding documents and a complete copy of all Villa
 ge of Lennon ordinances can be obtained at the Village of Lennon Hall locat
 ed at 11904 E. Lennon Road, Lennon, Michigan 48449 during business hours an
 d on the Village of Lennon web site at <a href="http://www.villageoflennon.
 com">www.villageoflennon.com</a>.</p><p> </p>
DTSTAMP:20260421T184146
DTSTART;VALUE=DATE:20251228
DTEND;VALUE=DATE:20260204
SEQUENCE:0
TRANSP:OPAQUE
END:VEVENT
END:VCALENDAR