BEGIN:VCALENDAR
VERSION:2.0
PRODID:-//jEvents 2.0 for Joomla//EN
CALSCALE:GREGORIAN
METHOD:PUBLISH
BEGIN:VEVENT
UID:3a56fac9b74071a485b093162cac0cd6
CATEGORIES:Notice
CREATED:20251106T154114
SUMMARY:November 10, 2025 Council Meeting
DESCRIPTION:The Village of Lennon will hold its monthly Council Meeting on Monday, Nove
 mber 10, 2025 at 6:30 p.m.  The meeting will be held at the Village of Lenn
 on Hall located at 11904 Lennon Rd., Lennon.   \nPublic is encouraged to at
 tend.  \nAgenda follows: \n Council Meeting\nNovember 10, 2025\n Agenda \nO
 pen at 6:30 P.M.\nCall to Order\nPledge of Allegiance\nRoll Call\n \nApprov
 al Minutes of Regular Meeting – October 13, 2025\nApproval Minutes Special 
 Meeting Minutes - October 28, 2025\nApproval of the Agenda\nTreasurer’s Rep
 ort\nPayment of Bills and Wages \n \nPublic Participation 1: \n \n \nReport
 s\n\n - Police Commission Report\n - Building Inspector\n - DPW Report/Buil
 ding &amp; Grounds\n - WWS\n - Planning Commission\n - Resolution to appoin
 t Mary Julian to the Planning Commission for three years\n - Resolution to 
 set 2026 meeting dates\n - Resolution to send the Culvert Ordinance to Coun
 cil\n - DDA\n - Resolution to appoint Mary Julan to the DDA for three years
 \n - Resolution to set 2026 meeting dates\n - Blight Committee\n - Correspo
 ndence \nOld business\n \n\n - Village lot   78-008-70-074 behind 11636 Len
 non Rd (Getcy)- update \nNew Business: \n\n - Update on property at 11911 a
 nd 11921\n - Culvert and Driveway Ordinance 2025-0901-01                   
           \nPublic Participation 2:  \n              \nAdjournment:\n
X-ALT-DESC;FMTTYPE=text/html:<p>The Village of Lennon will hold its monthly Council Meeting on Monday, N
 ovember 10, 2025 at 6:30 p.m.  The meeting will be held at the Village of L
 ennon Hall located at 11904 Lennon Rd., Lennon.   </p><p>Public is encourag
 ed to attend.  </p><p>Agenda follows: </p><h2> </h2><p><strong>Council Meet
 ing</strong></p><p><strong>November 10, 2025</strong></p><h1> </h1><h1>Agen
 da</h1><p> </p><p>Open at 6:30 P.M.</p><p>Call to Order</p><p>Pledge of All
 egiance</p><p>Roll Call</p><p> </p><p>Approval Minutes of Regular Meeting –
  October 13, 2025</p><p>Approval Minutes Special Meeting Minutes - October 
 28, 2025</p><p>Approval of the Agenda</p><p>Treasurer’s Report</p><p>Paymen
 t of Bills and Wages </p><p><strong> </strong></p><p><strong>Public Partici
 pation 1: </strong></p><p><strong> </strong></p><p> </p><p><strong>Reports<
 /strong></p><ol><li>Police Commission Report</li><li>Building Inspector</li
 ><li>DPW Report/Building &amp; Grounds</li><li>WWS</li><li>Planning Commiss
 ion</li><li>Resolution to appoint Mary Julian to the Planning Commission fo
 r three years</li><li>Resolution to set 2026 meeting dates</li><li>Resoluti
 on to send the Culvert Ordinance to Council</li><li>DDA</li><li>Resolution 
 to appoint Mary Julan to the DDA for three years</li><li>Resolution to set 
 2026 meeting dates</li><li>Blight Committee</li><li>Correspondence</li></ol
 ><p> </p><p><strong>Old business</strong></p><p> </p><ol><li>Village lot   
 78-008-70-074 behind 11636 Lennon Rd (Getcy)- update</li></ol><p><strong> <
 /strong></p><p><strong>New Business: </strong></p><ol><li>Update on propert
 y at 11911 and 11921</li><li>Culvert and Driveway Ordinance 2025-0901-01   
                          </li></ol><p> </p><p><strong>Public Participation 
 2:  </strong></p><p><strong>              </strong></p><p><strong>Adjournme
 nt:</strong></p>
DTSTAMP:20260421T203536
DTSTART;VALUE=DATE:20251106
DTEND;VALUE=DATE:20251112
SEQUENCE:0
TRANSP:OPAQUE
END:VEVENT
END:VCALENDAR