BEGIN:VCALENDAR
VERSION:2.0
PRODID:-//jEvents 2.0 for Joomla//EN
CALSCALE:GREGORIAN
METHOD:PUBLISH
BEGIN:VEVENT
UID:aee5f766f7c33d20f7f35eb16a418ba2
CATEGORIES:Notice
CREATED:20251027T131802
SUMMARY:Special Meeting
DESCRIPTION:<p>Special Meeting</p><p>Village of Lennon</p><p>October 28, 2025 </p><p>6:
 00 p.m.  </p><p>The Village of Lennon will hold a special meeting on Tuesda
 y, October October 28, 2025 at 6:00 p.m.   </p><p>The purpose of this meeti
 ng will be to discuss bidding on lots located at 11919 and 11921 Lennon Rd.
    </p><p>Public is invited to attend.  </p>
DTSTAMP:20260421T203556
DTSTART;VALUE=DATE:20251029
DTEND;VALUE=DATE:20251101
SEQUENCE:0
TRANSP:OPAQUE
END:VEVENT
END:VCALENDAR