BEGIN:VCALENDAR
VERSION:2.0
PRODID:-//jEvents 2.0 for Joomla//EN
CALSCALE:GREGORIAN
METHOD:PUBLISH
BEGIN:VEVENT
UID:aee5f766f7c33d20f7f35eb16a418ba2
CATEGORIES:Notice
CREATED:20251027T131802
SUMMARY:Special Meeting
DESCRIPTION:Special Meeting\nVillage of Lennon\nOctober 28, 2025 \n6:00 p.m.  \nThe Vil
 lage of Lennon will hold a special meeting on Tuesday, October October 28, 
 2025 at 6:00 p.m.   \nThe purpose of this meeting will be to discuss biddin
 g on lots located at 11919 and 11921 Lennon Rd.   \nPublic is invited to at
 tend.  \n
X-ALT-DESC;FMTTYPE=text/html:<p>Special Meeting</p><p>Village of Lennon</p><p>October 28, 2025 </p><p>6:
 00 p.m.  </p><p>The Village of Lennon will hold a special meeting on Tuesda
 y, October October 28, 2025 at 6:00 p.m.   </p><p>The purpose of this meeti
 ng will be to discuss bidding on lots located at 11919 and 11921 Lennon Rd.
    </p><p>Public is invited to attend.  </p>
DTSTAMP:20260421T203535
DTSTART;VALUE=DATE:20251028
DTEND;VALUE=DATE:20251031
SEQUENCE:0
TRANSP:OPAQUE
END:VEVENT
END:VCALENDAR