BEGIN:VCALENDAR
VERSION:2.0
PRODID:-//jEvents 2.0 for Joomla//EN
CALSCALE:GREGORIAN
METHOD:PUBLISH
BEGIN:VEVENT
UID:6c3a0137e3699ef7e4b39e29fee9b93e
CATEGORIES:Notice
CREATED:20250904T140543
SUMMARY:September 8, 2025 Council Meeting
DESCRIPTION:The Village of Lennon will hold its monthly Council meeting on Monday, Sept
 ember 8, 2025 at 6:30 p.m.  The meeting will be held at the Village of Lenn
 on Hall located at 11904 Lennon Road.  \nAgenda to follow. \n Village of Le
 nnonCouncil Meeting\nSeptember 8, 2025\n Agenda \nOpen at 6:30 P.M.\nCall t
 o Order\nPledge of Allegiance\nRoll Call\n \nApproval Minutes of Regular Me
 eting – August 11, 2025\nApproval of the Agenda\nTreasurer’s Report\nPaymen
 t of Bills and Wages \n \nPublic Participation 1: \n \nKen Rusher\nVariance
  Application\n \nReports\n\n - Police Commission Report\n - Building Inspec
 tor\n - DPW Report/Building &amp; Grounds\n - WWS\n - Planning Commission/D
 DA\n - Blight Committee\n - Correspondence \nOld business\n\n -   \n \nNew 
 Business: \n\n - Discuss Fee Schedule – Mowing Fees\n - Resolution to accep
 t the M-Dot Agreement 24-5604 \n \nPublic Participation 2:  \n             
  \nAdjournment:\n  \n \n \n
X-ALT-DESC;FMTTYPE=text/html:<p>The Village of Lennon will hold its monthly Council meeting on Monday, S
 eptember 8, 2025 at 6:30 p.m.  The meeting will be held at the Village of L
 ennon Hall located at 11904 Lennon Road.  </p><p>Agenda to follow. </p><h2>
  </h2><h2>Village of Lennon</h2><p><strong>Council Meeting</strong></p><p><
 strong>September 8, 2025</strong></p><h1> </h1><h1>Agenda</h1><p> </p><p>Op
 en at 6:30 P.M.</p><p>Call to Order</p><p>Pledge of Allegiance</p><p>Roll C
 all</p><p> </p><p>Approval Minutes of Regular Meeting – August 11, 2025</p>
 <p>Approval of the Agenda</p><p>Treasurer’s Report</p><p>Payment of Bills a
 nd Wages </p><p><strong> </strong></p><p><strong>Public Participation 1: </
 strong></p><p><strong> </strong></p><p><strong>Ken Rusher</strong></p><p>Va
 riance Application</p><p> </p><p><strong>Reports</strong></p><ol><li>Police
  Commission Report</li><li>Building Inspector</li><li>DPW Report/Building &
 amp; Grounds</li><li>WWS</li><li>Planning Commission/DDA</li><li>Blight Com
 mittee</li><li>Correspondence</li></ol><p> </p><p><strong>Old business</str
 ong></p><ol><li> </li></ol><p> </p><p><strong> </strong></p><p><strong>New 
 Business: </strong></p><ol><li>Discuss Fee Schedule – Mowing Fees</li><li>R
 esolution to accept the M-Dot Agreement 24-5604</li></ol><p> </p><p> </p><p
 ><strong>Public Participation 2:  </strong></p><p><strong>              </s
 trong></p><p><strong>Adjournment:</strong></p><p>  </p><p> </p><p> </p>
DTSTAMP:20260421T221812
DTSTART;VALUE=DATE:20250905
DTEND;VALUE=DATE:20250910
SEQUENCE:0
TRANSP:OPAQUE
END:VEVENT
END:VCALENDAR