BEGIN:VCALENDAR
VERSION:2.0
PRODID:-//jEvents 2.0 for Joomla//EN
CALSCALE:GREGORIAN
METHOD:PUBLISH
BEGIN:VEVENT
UID:8777dcde6457f040db61743fd2cd2fb3
CATEGORIES:Notice
CREATED:20250807T134748
SUMMARY:Council Meeting 
DESCRIPTION:The Village of Lennon will hold its monthly Council Meeting on Monday, Augu
 st 11, 2025 at 6:30 p.m.  The meeting will be held at the Village of Lennon
  Hall located at 11904 Lennon Rd., Lennon.   Agenda to follow:\nVillage of 
 LennonCouncil Meeting\nAugust 11, 2025\n Agenda \nOpen at 6:30 P.M.\nCall t
 o Order\nPledge of Allegiance\nRoll Call\n \nApproval Minutes of Regular Me
 eting – July 14, 2025\nApproval of the Agenda\nTreasurer’s Report\nPayment 
 of Bills and Wages \n \nPublic Participation 1: \n \nWWS – Mr. Frazee\nCMOM
  Contract\n \nReports\n\n - Police Commission Report\n - Building Inspector
 \n - DPW Report/Building &amp; Grounds\n - WWS\n - Planning Commission/DDA\
 n - Blight Committee\n - Correspondence \nOld business:\n\n - ESTA Policy  
 (Carried from July)\n - Update on DDA Revenues (Carried from July)         
   \n \n \nNew Business: \n\n - New Computers   \n \nPublic Participation 2:
   \n              \nAdjournment:\n \n \n \n
X-ALT-DESC;FMTTYPE=text/html:<p>The Village of Lennon will hold its monthly Council Meeting on Monday, A
 ugust 11, 2025 at 6:30 p.m.  The meeting will be held at the Village of Len
 non Hall located at 11904 Lennon Rd., Lennon.   Agenda to follow:</p><h2>Vi
 llage of Lennon</h2><p><strong>Council Meeting</strong></p><p><strong>Augus
 t 11, 2025</strong></p><h1> </h1><h1>Agenda</h1><p> </p><p>Open at 6:30 P.M
 .</p><p>Call to Order</p><p>Pledge of Allegiance</p><p>Roll Call</p><p> </p
 ><p>Approval Minutes of Regular Meeting – July 14, 2025</p><p>Approval of t
 he Agenda</p><p>Treasurer’s Report</p><p>Payment of Bills and Wages </p><p>
 <strong> </strong></p><p><strong>Public Participation 1: </strong></p><p><s
 trong> </strong></p><p><strong>WWS – Mr. Frazee</strong></p><p>CMOM Contrac
 t</p><p> </p><p><strong>Reports</strong></p><ol><li>Police Commission Repor
 t</li><li>Building Inspector</li><li>DPW Report/Building &amp; Grounds</li>
 <li>WWS</li><li>Planning Commission/DDA</li><li>Blight Committee</li><li>Co
 rrespondence</li></ol><p> </p><p><strong>Old business:</strong></p><ol><li>
 ESTA Policy  (Carried from July)</li><li>Update on DDA Revenues (Carried fr
 om July)</li></ol><p>           </p><p> </p><p><strong> </strong></p><p><st
 rong>New Business: </strong></p><ol><li>New Computers  </li></ol><p> </p><p
 > </p><p><strong>Public Participation 2:  </strong></p><p><strong>         
      </strong></p><p><strong>Adjournment:</strong></p><p> </p><p> </p><p> <
 /p>
DTSTAMP:20260421T215911
DTSTART;VALUE=DATE:20250812
DTEND;VALUE=DATE:20250818
SEQUENCE:0
TRANSP:OPAQUE
END:VEVENT
END:VCALENDAR