BEGIN:VCALENDAR
VERSION:2.0
PRODID:-//jEvents 2.0 for Joomla//EN
CALSCALE:GREGORIAN
METHOD:PUBLISH
BEGIN:VEVENT
UID:98a40a23e54fb11afbcb1db74c2ce471
CATEGORIES:Notice
CREATED:20250710T124201
SUMMARY:July 14, 2025 Council Meeting
DESCRIPTION:<p>The Village of Lennon will conduct the monthly Council meeting on Monday
 , July 9, 2025 at 6:30 p.m.  The meeting will be held at the Lennon Village
  Hall located at 11904 Lennon Rd., Lennon, MI   48449</p><p>Public is encou
 raged to attend.   </p><p>Agenda follows </p><h1> </h1><h1>Agenda</h1><p> <
 /p><p>Open at 6:30 P.M.</p><p>Call to Order</p><p>Pledge of Allegiance</p><
 p>Roll Call</p><p>Approval of Minutes of Public Hearing on 2025 -2026 Budge
 t</p><p>Approval of Minutes of Regular Meeting June 9, 2025</p><p>Approval 
 of Minutes of Special Meeting – Brownfield Redevelopment</p><p>Approval of 
 the Agenda</p><p>Treasurer’s Report</p><p>Payment of Bills and Wages </p><p
 ><strong> </strong></p><p><strong>Public Participation 1: </strong></p><p><
 strong>Brownfield Presentation </strong></p><ol><li>Resolution concurring w
 ith the provisions of a Brownfield Plan</li><li>Resolution of understanding
  to utilize the Shia Brownfield Authority</li></ol><p><strong> </strong><st
 rong>Reports</strong></p><ol><li>Police Commission Report</li><li>Building 
 Inspector</li><li>DPW Report/Building &amp; Grounds</li><li>WWS</li><li>Pla
 nning Commission/DDA</li><li>Blight Committee</li><li>Correspondence</li></
 ol><p> </p><p><strong>Old business:</strong></p><p> </p><p>           </p><
 p><strong>New Business: </strong></p><ol><li>Treasurer Update on DDA</li><l
 i>Treasurer Update on Earned Sick Time Act</li></ol><p> </p><p> </p><p><str
 ong>Public Participation 2:  </strong></p><p><strong>              </strong
 ></p><p><strong>Adjournment</strong><strong>:</strong></p>
DTSTAMP:20260421T214045
DTSTART;VALUE=DATE:20250712
DTEND;VALUE=DATE:20250718
SEQUENCE:0
TRANSP:OPAQUE
END:VEVENT
END:VCALENDAR