BEGIN:VCALENDAR
VERSION:2.0
PRODID:-//jEvents 2.0 for Joomla//EN
CALSCALE:GREGORIAN
METHOD:PUBLISH
BEGIN:VEVENT
UID:e22cc1f90ae8ff70751bece840b2a7fe
CATEGORIES:Notice
CREATED:20250611T141742
SUMMARY:Village of Lennon Special Meeting June 16, 2025
DESCRIPTION:Notice\nSpecial Meeting\nVillage of Lennon\nMonday, June 16, 2025\n \nTHE V
 ILLAGE OF LENNON WILL HOLD A SPECIAL COUNCIL MEETING ON MONDAY, JUNE 16, 20
 25, at 6:30 p.m.  AT THE LENNON VILLAGE HALL LOCATED AT 11904 LENNON RD.  \
 n \nTHE PURPOSE OF THE MEETING WILL BE TO DISCUSS THE PROPOSED BROWNFIELD R
 EDEVELOPMENT PLAN FOR THE LENNON ROAD REDEVELOPMENT\n \nALL ARE ENCOURAGED 
 TO ATTEND\n
X-ALT-DESC;FMTTYPE=text/html:<p>Notice</p><p>Special Meeting</p><p>Village of Lennon</p><p>Monday, June 
 16, 2025</p><p> </p><p>THE VILLAGE OF LENNON WILL HOLD A SPECIAL COUNCIL ME
 ETING ON MONDAY, JUNE 16, 2025, at 6:30 p.m.  AT THE LENNON VILLAGE HALL LO
 CATED AT 11904 LENNON RD.  </p><p> </p><p>THE PURPOSE OF THE MEETING WILL B
 E TO DISCUSS THE PROPOSED BROWNFIELD REDEVELOPMENT PLAN FOR THE LENNON ROAD
  REDEVELOPMENT</p><p> </p><p>ALL ARE ENCOURAGED TO ATTEND</p>
DTSTAMP:20260421T200809
DTSTART:20250614T080000
DTEND:20250620T170000
SEQUENCE:0
TRANSP:OPAQUE
END:VEVENT
END:VCALENDAR