BEGIN:VCALENDAR
VERSION:2.0
PRODID:-//jEvents 2.0 for Joomla//EN
CALSCALE:GREGORIAN
METHOD:PUBLISH
BEGIN:VEVENT
UID:e22cc1f90ae8ff70751bece840b2a7fe
CATEGORIES:Notice
CREATED:20250611T141742
SUMMARY:Village of Lennon Special Meeting June 16, 2025
DESCRIPTION:<p>Notice</p><p>Special Meeting</p><p>Village of Lennon</p><p>Monday, June 
 16, 2025</p><p> </p><p>THE VILLAGE OF LENNON WILL HOLD A SPECIAL COUNCIL ME
 ETING ON MONDAY, JUNE 16, 2025, at 6:30 p.m.  AT THE LENNON VILLAGE HALL LO
 CATED AT 11904 LENNON RD.  </p><p> </p><p>THE PURPOSE OF THE MEETING WILL B
 E TO DISCUSS THE PROPOSED BROWNFIELD REDEVELOPMENT PLAN FOR THE LENNON ROAD
  REDEVELOPMENT</p><p> </p><p>ALL ARE ENCOURAGED TO ATTEND</p>
DTSTAMP:20260421T200805
DTSTART:20250611T080000
DTEND:20250617T170000
SEQUENCE:0
TRANSP:OPAQUE
END:VEVENT
END:VCALENDAR