BEGIN:VCALENDAR
VERSION:2.0
PRODID:-//jEvents 2.0 for Joomla//EN
CALSCALE:GREGORIAN
METHOD:PUBLISH
BEGIN:VEVENT
UID:cd19216b4e155cba5ad198b0fea32a78
CATEGORIES:Notice
CREATED:20250508T154545
SUMMARY:May 12 2025 Council Meeting
DESCRIPTION:<p>The Village of Lennon will hold its monthly Council meeting on Monday, M
 ay 12, 2025 at 6:30 p.m.  The meeting will be held at the Village of Lennon
  Hall located at 11904 Lennon Rd.   </p><h2> </h2><h2>Village of Lennon</h2
 ><p><strong>Council Meeting</strong></p><p><strong>May 12, 2025</strong></p
 ><h1> </h1><h1>Agenda</h1><p> </p><p>Open at 6:30 P.M.</p><p>Call to Order<
 /p><p>Pledge of Allegiance</p><p>Roll Call</p><p> </p><p>Approval Minutes o
 f Regular Meeting – April 14, 2025</p><p>Approval of the Agenda</p><p>Treas
 urer’s Report</p><p>Payment of Bills and Wages </p><p><strong> </strong></p
 ><p><strong>Public Participation 1: </strong></p><p> </p><p><strong>Reports
 </strong></p><ol><li>Police Commission Report</li><li>Building Inspector</l
 i><li>DPW Report/Building &amp; Grounds</li><li>WWS</li><li>Planning Commis
 sion/DDA</li><li>Blight Committee</li><li>Correspondence</li></ol><p> </p><
 p><strong>Old business:</strong></p><p> </p><p>           </p><p><strong>Ne
 w Business: </strong></p><ol><li>Policy for payment of shift premium</li></
 ol><p> </p><p> </p><p><strong>Public Participation 2:  </strong></p><p><str
 ong>              </strong></p><p><strong>Adjournment:</strong></p>
DTSTAMP:20260421T184830
DTSTART;VALUE=DATE:20250508
DTEND;VALUE=DATE:20250514
SEQUENCE:0
TRANSP:OPAQUE
END:VEVENT
END:VCALENDAR