BEGIN:VCALENDAR
VERSION:2.0
PRODID:-//jEvents 2.0 for Joomla//EN
CALSCALE:GREGORIAN
METHOD:PUBLISH
BEGIN:VEVENT
UID:9a6a3eae1e26c7e77543b0dcf33b43ba
CATEGORIES:Notice
CREATED:20250410T140401
SUMMARY:April 14, 2025 Council Meeting 
DESCRIPTION:<p>The Village of Lennon will hold its regular monthly council meeting on M
 onday, April 14, 2025 at 6:30 p.m.   The meeting will be held at the Villag
 e of Lennon Hall located at 11904 Lennon Rd.  </p><p>Public is encouraged t
 o attend.   </p><h2> </h2><h2>Village of Lennon</h2><p><strong>Council Meet
 ing</strong></p><p><strong>April 14, 2025</strong></p><h1> </h1><h1>Agenda<
 /h1><p>Open at 6:30 P.M.</p><p>Call to Order</p><p>Pledge of Allegiance</p>
 <p>Roll Call</p><p>Approval Minutes of Regular Meeting – March 10, 2025</p>
 <p>Approval of the Agenda</p><p>Treasurer’s Report</p><ol><li>New Computers
 </li></ol><p>Payment of Bills and Wages </p><p><strong> </strong><strong>Pu
 blic Participation 1: </strong></p><p><strong>Reports</strong></p><ol><li>P
 olice Commission Report</li><li>Building Inspector</li><li>DPW Report/Build
 ing &amp; Grounds</li><li>WWS</li><li>Planning Commission/DDA</li><li>Renew
 al of DDA TIFA District by 2027</li><li>Blight Committee</li><li>Correspond
 ence</li></ol><p><strong>Old business:</strong></p><p> </p><p>       </p><p
 ><strong>New Business: </strong></p><p><strong>Public Participation 2:  </s
 trong></p><p><strong>          </strong></p><p><strong>Adjournment:</strong
 ></p><p> </p><p> </p>
DTSTAMP:20260421T173233
DTSTART:20250412T080000
DTEND:20250417T080000
SEQUENCE:0
TRANSP:OPAQUE
END:VEVENT
END:VCALENDAR