BEGIN:VCALENDAR
VERSION:2.0
PRODID:-//jEvents 2.0 for Joomla//EN
CALSCALE:GREGORIAN
METHOD:PUBLISH
BEGIN:VEVENT
UID:bb4fa3e38833867037313b7ebbcd3562
CATEGORIES:Notice
CREATED:20250212T141645
SUMMARY:Special Meeting
DESCRIPTION:<p><strong>SPECIAL COUNCIL MEETING</strong></p><p> </p><p>THE VILLAGE OF LE
 NNON WILL HOLD A SPECIAL COUNCIL MEETING ON FEBRUARY 19, 2025 AT 6:30 P.M. 
  AT THE LENNON VILLAGE HALL LOCATED AT 11904 LENNON ROAD.  </p><p> </p><p>T
 HE MEETING WILL DISCUSS THE VILLAGE OF LENNON POLICE DEPARTMENT.</p><p> </p
 ><p>PUBLIC IS WELCOME TO ATTEND</p>
DTSTAMP:20260421T203406
DTSTART;VALUE=DATE:20250218
DTEND;VALUE=DATE:20250219
SEQUENCE:0
TRANSP:OPAQUE
END:VEVENT
END:VCALENDAR