BEGIN:VCALENDAR
VERSION:2.0
PRODID:-//jEvents 2.0 for Joomla//EN
CALSCALE:GREGORIAN
METHOD:PUBLISH
BEGIN:VEVENT
UID:b8d793e895c0475ea6be1b18651ee1a1
CATEGORIES:Notice
CREATED:20250206T142929
SUMMARY:Council Meeting February 2025
DESCRIPTION:The Village of Lennon will hold its monthly council meeting on Monday, Febr
 uary 10, 2025 at 6:30 p.m.  at the Lennon Village Hall 11904 Lennon Rd.   \
 nPublic is encouraged to attend.     Agenda Follows\nVillage of Lennon \nCo
 uncil Meeting\nFebruary 10, 2025\n Agenda \nOpen at 6:30 P.M.\nCall to Orde
 r\nPledge of Allegiance\nRoll Call\n \nClose Council Meeting and Open Publi
 c Hearing\nPublic Hearing on Ordinance 2024-1111-01 Ordinance to Regulate P
 ortable Storage Containers\nClose Public Hearing and Reopen Council Meeting
 .  \n \nApproval Minutes of Regular Meeting – January 8, 2025\nApproval of 
 the Agenda\nTreasurer’s Report\nPayment of Bills and Wages \n \n \nPublic P
 articipation 1: \n \n \nReports\n\n - Police Commission Report\n - Building
  Inspector\n - DPW Report/Building &amp; Grounds\n - WWS\n - Planning Commi
 ssion/DDA\n - Blight Committee\n - Correspondence \nOld business:\n\n - Cod
 e Enforcement Officer – Position Description – Carryover \n           \nNew
  Business: \n\n - First Reading of Ordinance 2024-1111-01 Regulate Portable
  Storage Containers \nPublic Participation 2:  \n              \nAdjournmen
 t:\n
X-ALT-DESC;FMTTYPE=text/html:<p>The Village of Lennon will hold its monthly council meeting on Monday, F
 ebruary 10, 2025 at 6:30 p.m.  at the Lennon Village Hall 11904 Lennon Rd. 
   </p><p>Public is encouraged to attend.    <span style="color: #000000;"> 
 <strong>Agenda Follows</strong></span></p><p><strong>Village of Lennon </st
 rong></p><p><strong>Council Meeting</strong></p><p><strong>February 10, 202
 5</strong></p><h1> </h1><h1>Agenda</h1><p> </p><p>Open at 6:30 P.M.</p><p>C
 all to Order</p><p>Pledge of Allegiance</p><p>Roll Call</p><p> </p><p>Close
  Council Meeting and Open Public Hearing</p><p>Public Hearing on Ordinance 
 2024-1111-01 Ordinance to Regulate Portable Storage Containers</p><p>Close 
 Public Hearing and Reopen Council Meeting.  </p><p> </p><p>Approval Minutes
  of Regular Meeting – January 8, 2025</p><p>Approval of the Agenda</p><p>Tr
 easurer’s Report</p><p>Payment of Bills and Wages </p><p> </p><p><strong> <
 /strong></p><p><strong>Public Participation 1: </strong></p><p><strong> </s
 trong></p><p> </p><p><strong>Reports</strong></p><ol><li>Police Commission 
 Report</li><li>Building Inspector</li><li>DPW Report/Building &amp; Grounds
 </li><li>WWS</li><li>Planning Commission/DDA</li><li>Blight Committee</li><
 li>Correspondence</li></ol><p> </p><p><strong>Old business:</strong></p><ol
 ><li>Code Enforcement Officer – Position Description – Carryover</li></ol><
 p> </p><p>           </p><p><strong>New Business: </strong></p><ol><li>Firs
 t Reading of Ordinance 2024-1111-01 Regulate Portable Storage Containers</l
 i></ol><p> </p><p><strong>Public Participation 2:  </strong></p><p><strong>
               </strong></p><p><strong>Adjournment:</strong></p>
DTSTAMP:20260421T192019
DTSTART;VALUE=DATE:20250207
DTEND;VALUE=DATE:20250213
SEQUENCE:0
TRANSP:OPAQUE
END:VEVENT
END:VCALENDAR