BEGIN:VCALENDAR
VERSION:2.0
PRODID:-//jEvents 2.0 for Joomla//EN
CALSCALE:GREGORIAN
METHOD:PUBLISH
BEGIN:VEVENT
UID:a90502124f1167f27e9cc0c8948f70d5
CATEGORIES:Notice
CREATED:20241113T135429
SUMMARY:Organization Meeting 
DESCRIPTION:<h2>Village of Lennon</h2><p><strong>Organizational Meeting</strong></p><p>
 <strong>November 18, 2024</strong></p><h1> </h1><h1> </h1><h1>Agenda</h1><p
 > </p><p>Open at 6:00 P.M.</p><p>Call to Order</p><p>Pledge of Allegiance</
 p><p>Roll Call</p><p>Approval of the agenda</p><p> </p><p><strong>New Busin
 ess:</strong></p><ul><li>Swearing in of elected officials</li><li>Elect pre
 sident – pro-tem</li></ul><p> </p><p><strong>              </strong></p><p>
 <strong>Adjournment</strong></p>
DTSTAMP:20260421T234406
DTSTART;VALUE=DATE:20241114
DTEND;VALUE=DATE:20241121
SEQUENCE:0
TRANSP:OPAQUE
END:VEVENT
END:VCALENDAR