BEGIN:VCALENDAR
VERSION:2.0
PRODID:-//jEvents 2.0 for Joomla//EN
CALSCALE:GREGORIAN
METHOD:PUBLISH
BEGIN:VEVENT
UID:fe0e2649a3c376b0f2fa5699daa19a94
CATEGORIES:Notice
CREATED:20241107T134046
SUMMARY:Regular Council Meeting - November 2024
DESCRIPTION:The Village of Lennon will hold the monthly Council Meeting on Monday, Nove
 mber 11, 2024 at 6:30 p.m. at the Village of Lennon hall located at 11904 L
 ennon Rd.  Agenda follows \nVillage of LennonCouncil Meeting\nNovember 11, 
 2024\n Agenda \nOpen at 6:30 P.M.\nCall to Order\nPledge of Allegiance\nRol
 l Call\nApproval Minutes of Regular Meeting – October 14, 2024\nApproval of
  the Agenda\nTreasurer’s Report\nPayment of Bills and Wages \n \n \nPublic 
 Participation 1: \n \nMDOT Category B Grant\n \n\n - Spicer – Main St Proje
 ct – Carryover \nReports\n\n - Police Commission Report\n - Building Inspec
 tor\n - DPW Report/Building &amp; Grounds\n - WWS\n - Planning Commission/D
 DA\n - Reappoint Planning Commission members – L. Farley Ray and M. Natzel\
 n - Blight Committee\n - Correspondence \nOld business:\n\n - Code Enforcem
 ent Officer – Position Description - Carryover           \nNew Business: \n
 \n - Organization meeting - Monday, November 18, 2024 \n \nPublic Participa
 tion 2:  \n              \nAdjournment:\n \n \n
X-ALT-DESC;FMTTYPE=text/html:<p>The Village of Lennon will hold the monthly Council Meeting on Monday, N
 ovember 11, 2024 at 6:30 p.m. at the Village of Lennon hall located at 1190
 4 Lennon Rd.  Agenda follows </p><h2>Village of Lennon</h2><p><strong>Counc
 il Meeting</strong></p><p><strong>November 11, 2024</strong></p><h1> </h1><
 h1>Agenda</h1><p> </p><p>Open at 6:30 P.M.</p><p>Call to Order</p><p>Pledge
  of Allegiance</p><p>Roll Call</p><p>Approval Minutes of Regular Meeting – 
 October 14, 2024</p><p>Approval of the Agenda</p><p>Treasurer’s Report</p><
 p>Payment of Bills and Wages </p><p> </p><p><strong> </strong></p><p><stron
 g>Public Participation 1: </strong></p><p><strong> </strong></p><p><strong>
 MDOT Category B Grant</strong></p><p><strong> </strong></p><ol><li>Spicer –
  Main St Project – Carryover</li></ol><p> </p><p><strong>Reports</strong></
 p><ol start="2"><li>Police Commission Report</li><li>Building Inspector</li
 ><li>DPW Report/Building &amp; Grounds</li><li>WWS</li><li>Planning Commiss
 ion/DDA</li><li>Reappoint Planning Commission members – L. Farley Ray and M
 . Natzel</li><li>Blight Committee</li><li>Correspondence</li></ol><p> </p><
 p><strong>Old business:</strong></p><ol><li>Code Enforcement Officer – Posi
 tion Description - Carryover</li></ol><p>           </p><p><strong>New Busi
 ness: </strong></p><ol><li>Organization meeting - Monday, November 18, 2024
 </li></ol><p> </p><p> </p><p><strong>Public Participation 2:  </strong></p>
 <p><strong>              </strong></p><p><strong>Adjournment:</strong></p><
 p> </p><p> </p>
DTSTAMP:20260421T233543
DTSTART;VALUE=DATE:20241111
DTEND;VALUE=DATE:20241117
SEQUENCE:0
TRANSP:OPAQUE
END:VEVENT
END:VCALENDAR