BEGIN:VCALENDAR
VERSION:2.0
PRODID:-//jEvents 2.0 for Joomla//EN
CALSCALE:GREGORIAN
METHOD:PUBLISH
BEGIN:VEVENT
UID:f441dac632c6fb2a5183c3755efcbf43
CATEGORIES:Notice
CREATED:20241010T132043
SUMMARY:Regular Council Meeting
DESCRIPTION:The Village of Lennon will hold its regular monthly council meeting on Mond
 ay, October 14, 2024 at 6:30 p.m.  The meeting will be held at the Village 
 of Lennon Hall located at 11904 Lennon Rd., Lennon.   Agenda follows.  \nPu
 blic is encouraged to attend.  \nVillage of LennonCouncil Meeting\nOctober 
 14, 2024\n Agenda \nOpen at 6:30 P.M.\nCall to Order\nPledge of Allegiance\
 nRoll Call\nApproval Minutes of Regular Meeting – September 9, 2024\nApprov
 al of the Agenda\nTreasurer’s Report\nPayment of Bills and Wages \n \nPubli
 c Hearing on Proposed Burning Ordinance \n            Close regular council
  meeting/Open public hearing\n            Discussion/Public Comments\n     
        Close public hearing/re-open council meeting\n \n \nPublic Participa
 tion 1: \n \nReports\n\n - Police Commission Report\n - Building Inspector\
 n - DPW Report/Building &amp; Grounds\n - WWS\n - Planning Commission/DDA\n
  - Blight Committee\n - Correspondence \nOld business:\n\n - Vacant Lot - C
 arryover – On Hold\n - Spicer – Main St Project – Carryover\n - Code Enforc
 ement Officer – Position Description - Carryover           \nNew Business: 
 \n\n - Window Factory – Land Split Resolution\n - MML Liability Insurance R
 enewal \nPublic Participation 2:  \n              \nAdjournment:\n \n \n
X-ALT-DESC;FMTTYPE=text/html:<p>The Village of Lennon will hold its regular monthly council meeting on M
 onday, October 14, 2024 at 6:30 p.m.  The meeting will be held at the Villa
 ge of Lennon Hall located at 11904 Lennon Rd., Lennon.   Agenda follows.  <
 /p><p>Public is encouraged to attend.  </p><h2 style="text-align: center;">
 Village of Lennon</h2><p style="text-align: center;"><strong>Council Meetin
 g</strong></p><p style="text-align: center;"><strong>October 14, 2024</stro
 ng></p><h1 style="text-align: center;"> </h1><h1>Agenda</h1><p> </p><p>Open
  at 6:30 P.M.</p><p>Call to Order</p><p>Pledge of Allegiance</p><p>Roll Cal
 l</p><p>Approval Minutes of Regular Meeting – September 9, 2024</p><p>Appro
 val of the Agenda</p><p>Treasurer’s Report</p><p>Payment of Bills and Wages
  </p><p> </p><p><strong>Public Hearing on Proposed Burning Ordinance </stro
 ng></p><p><strong>            </strong>Close regular council meeting/Open p
 ublic hearing</p><p>            Discussion/Public Comments</p><p>          
   Close public hearing/re-open council meeting</p><p> </p><p><strong> </str
 ong></p><p><strong>Public Participation 1: </strong></p><p> </p><p><strong>
 Reports</strong></p><ol><li>Police Commission Report</li><li>Building Inspe
 ctor</li><li>DPW Report/Building &amp; Grounds</li><li>WWS</li><li>Planning
  Commission/DDA</li><li>Blight Committee</li><li>Correspondence</li></ol><p
 > </p><p><strong>Old business:</strong></p><ol><li>Vacant Lot - Carryover –
  On Hold</li><li>Spicer – Main St Project – Carryover</li><li>Code Enforcem
 ent Officer – Position Description - Carryover</li></ol><p>           </p><
 p><strong>New Business: </strong></p><ol><li>Window Factory – Land Split Re
 solution</li><li>MML Liability Insurance Renewal</li></ol><p> </p><p><stron
 g>Public Participation 2:  </strong></p><p><strong>              </strong><
 /p><p><strong>Adjournment:</strong></p><p> </p><p> </p>
DTSTAMP:20260421T235609
DTSTART;VALUE=DATE:20241010
DTEND;VALUE=DATE:20241016
SEQUENCE:0
TRANSP:OPAQUE
END:VEVENT
END:VCALENDAR