BEGIN:VCALENDAR
VERSION:2.0
PRODID:-//jEvents 2.0 for Joomla//EN
CALSCALE:GREGORIAN
METHOD:PUBLISH
BEGIN:VEVENT
UID:7f28c62972775f89531ed21875c89410
CATEGORIES:Notice
CREATED:20240904T124411
SUMMARY:Police Commission Meeting 
DESCRIPTION:The Village of Lennon Police Commission will hold a meeting on Thursday, Se
 ptember 5, 2024 at 6:30 p.m. at the Village of Lennon Hall located at 11904
  Lennon Rd.  \n
X-ALT-DESC;FMTTYPE=text/html:<p>The Village of Lennon Police Commission will hold a meeting on Thursday,
  September 5, 2024 at 6:30 p.m. at the Village of Lennon Hall located at 11
 904 Lennon Rd.  </p>
DTSTAMP:20260422T012111
DTSTART;VALUE=DATE:20240906
DTEND;VALUE=DATE:20240909
SEQUENCE:0
TRANSP:OPAQUE
END:VEVENT
END:VCALENDAR