BEGIN:VCALENDAR
VERSION:2.0
PRODID:-//jEvents 2.0 for Joomla//EN
CALSCALE:GREGORIAN
METHOD:PUBLISH
BEGIN:VEVENT
UID:4f36215ee60da0678b8a085ab19df0ac
CATEGORIES:Notice
CREATED:20240903T132423
SUMMARY:Planning Commission/DDA Meeting
DESCRIPTION:The Village of Lennon Planning Commission and Downtown Development Authorit
 y will hold a monthly meeting on Wednesday, September 4, 2024 at 6:00 p.m. 
 at the Village of Lennon Hall located at 11904 Lennon Rd.  \nPublic Welcome
 .   \n \nAgendas follow:  \nPlanning Commission\nMeeting Agenda\nSeptember 
  4th, 2024\nVillage of Lennon\n6:00 PM\n \nAGENDA\n \n\n - Call to order\n 
 - Pledge of Allegiance\n - Roll Call\n - Approval of the Agenda\n - Approva
 l of the Minutes from August 7, 2024 Meeting\n - Correspondence:\n - Public
  Comments:\n - Old Business ~\n - Discussion on Shipping Container\n - New 
 Business\n - Discussion on gun ordinanceXI  Public Comments :\nXII Adjournm
 ent: Time; ___________\n \n2024 meeting dates: October 2nd, November 6th an
 d December 4th\n \nVillage of Lennon\nDowntown Development Authority\nMeeti
 ng Agenda\nSeptember 4th, 2024\n6:00 PM\n \nAGENDA\n \n\n - Call to order\n
  - Pledge of Allegiance\n - Roll Call \n\n - Approval of the Agenda\n - App
 roval of the Minutes from May 1st Meeting\n - Approval of the Treasurers re
 port\n - Correspondence:\n - Public Comments:\n - Old Business\n - Christma
 s Decorations\n - New BusinessXI  Public Comments\nXII Adjournment: Time; _
 ______________________\n \n2024 Upcoming meeting dates:  September 4th, Oct
 ober 2nd, November 6th and December 4th\n
X-ALT-DESC;FMTTYPE=text/html:<p>The Village of Lennon Planning Commission and Downtown Development Autho
 rity will hold a monthly meeting on Wednesday, September 4, 2024 at 6:00 p.
 m. at the Village of Lennon Hall located at 11904 Lennon Rd.  </p><p>Public
  Welcome.   </p><p> </p><p>Agendas follow:  </p><p style="text-align: cente
 r;"><strong>Planning Commission</strong></p><p style="text-align: center;">
 <strong>Meeting Agenda</strong></p><p style="text-align: center;"><strong>S
 eptember  4th, 2024</strong></p><p style="text-align: center;"><strong>Vill
 age of Lennon</strong></p><p style="text-align: center;"><strong>6:00 PM</s
 trong></p><p> </p><p><strong>AGENDA</strong></p><p> </p><ol><li>Call to ord
 er</li><li>Pledge of Allegiance</li><li>Roll Call</li><li>Approval of the A
 genda</li><li>Approval of the Minutes from August 7, 2024 Meeting</li><li>C
 orrespondence:</li><li>Public Comments:</li><li>Old Business ~<ol><li>Discu
 ssion on Shipping Container</li></ol></li><li>New Business</li><li>Discussi
 on on gun ordinance</li></ol><p>XI  Public Comments :</p><p>XII Adjournment
 : Time; ___________</p><p> </p><p>2024 meeting dates: October 2nd, November
  6th and December 4th</p><p> </p><p style="text-align: center;"><strong>Vil
 lage of Lennon</strong></p><p style="text-align: center;"><strong>Downtown 
 Development Authority</strong></p><p style="text-align: center;"><strong>Me
 eting Agenda</strong></p><p style="text-align: center;"><strong>September 4
 th, 2024</strong></p><p style="text-align: center;"><strong>6:00 PM</strong
 ></p><p style="text-align: center;"> </p><p>AGENDA</p><p> </p><ol><li>Call 
 to order</li><li>Pledge of Allegiance</li><li>Roll Call</li></ol><p> </p><o
 l><li>Approval of the Agenda</li><li>Approval of the Minutes from May 1st M
 eeting</li><li>Approval of the Treasurers report</li><li>Correspondence:</l
 i><li>Public Comments:</li><li>Old Business<ol><li>Christmas Decorations</l
 i></ol></li><li>New Business</li></ol><p>XI  Public Comments</p><p>XII Adjo
 urnment: Time; _______________________</p><p> </p><p>2024 Upcoming meeting 
 dates:  September 4th, October 2nd, November 6th and December 4th</p>
DTSTAMP:20260421T235543
DTSTART;VALUE=DATE:20240904
DTEND;VALUE=DATE:20240907
SEQUENCE:0
TRANSP:OPAQUE
END:VEVENT
END:VCALENDAR