BEGIN:VCALENDAR
VERSION:2.0
PRODID:-//jEvents 2.0 for Joomla//EN
CALSCALE:GREGORIAN
METHOD:PUBLISH
BEGIN:VEVENT
UID:b723e70322c925e7a8ad16ae43af943e
CATEGORIES:Notice
CREATED:20240807T134246
SUMMARY:August 2024 Council Meeting
DESCRIPTION:<p>The Village of Lennon will hold the August 12, 2024 Regular Council Meet
 ing on Monday, August 12, 2024 at 6:30 p.m. at the Lennon Village Hall loca
 ted at 11904 Lennon Road.   See Agenda below</p><h2> </h2><h2>Village of Le
 nnon</h2><p><strong>Council Meeting</strong></p><p><strong>August 12, 2024<
 /strong></p><h1> </h1><h1>Agenda</h1><p> </p><p>Open at 6:30 P.M.</p><p>Cal
 l to Order</p><p>Pledge of Allegiance</p><p>Roll Call</p><p>Approval Minute
 s of Regular Meeting – July 8, 2024</p><p>Approval of the Agenda</p><p>Trea
 surer’s Report</p><p>Payment of Bills and Wages </p><p> </p><p> </p><p><str
 ong> </strong></p><p><strong>Public Participation 1: </strong></p><p> </p><
 p> </p><p><strong>Reports</strong></p><ol><li>Police Commission Report</li>
 <li>Building Inspector</li><li>DPW Report/Building &amp; Grounds</li><li>WW
 S</li><li>Planning Commission/DDA</li><li>Blight Committee</li><li>Correspo
 ndence</li></ol><p> </p><p><strong>Old business:</strong></p><ol><li>Vacant
  Lot - Carryover – On Hold</li><li>Spicer – Main St Project</li></ol><p><st
 rong> </strong></p><p>           </p><p><strong>New Business: </strong></p>
 <ol><li>Innovation Contract</li></ol><p> </p><p><strong>Public Participatio
 n 2:  </strong></p><p><strong>              </strong></p><p><strong>Adjourn
 ment:</strong></p><p> </p><p> </p>
DTSTAMP:20260421T234405
DTSTART;VALUE=DATE:20240807
DTEND;VALUE=DATE:20240808
SEQUENCE:0
TRANSP:OPAQUE
END:VEVENT
END:VCALENDAR