BEGIN:VCALENDAR
VERSION:2.0
PRODID:-//jEvents 2.0 for Joomla//EN
CALSCALE:GREGORIAN
METHOD:PUBLISH
BEGIN:VEVENT
UID:1b5be163802ffe45bc32445cd6eb8c5b
CATEGORIES:Notice
CREATED:20240627T142054
SUMMARY:PC Meetting Cancelled
DESCRIPTION:NOTICE\nThe Planning Commission and DDA meeting scheduled for July 3, 2024 
 at the Village of Lennon Hall located at 11904 Lennon Rd., Lennon has been 
 cancelled due to lack of quorum.\nThe next regular Planning Commission and 
 DDA meeting will be held August 7, 2024 at the Village of Lennon Hall locat
 ed at 11904 Lennon Rd., Lennon. \nPublic is encouraged to attend. \n \n
X-ALT-DESC;FMTTYPE=text/html:<p><strong>NOTICE</strong></p><p>The Planning Commission and DDA meeting sc
 heduled for July 3, 2024 at the Village of Lennon Hall located at 11904 Len
 non Rd., Lennon has been cancelled due to lack of quorum.</p><p>The next re
 gular Planning Commission and DDA meeting will be held August 7, 2024 at th
 e Village of Lennon Hall located at 11904 Lennon Rd., Lennon. </p><p>Public
  is encouraged to attend. </p><p> </p>
DTSTAMP:20260421T215934
DTSTART;VALUE=DATE:20240629
DTEND;VALUE=DATE:20240707
SEQUENCE:0
TRANSP:OPAQUE
END:VEVENT
END:VCALENDAR