BEGIN:VCALENDAR
VERSION:2.0
PRODID:-//jEvents 2.0 for Joomla//EN
CALSCALE:GREGORIAN
METHOD:PUBLISH
BEGIN:VEVENT
UID:7298e2f092c11c7d067c2102e7b5d48e
CATEGORIES:Notice
CREATED:20240603T142157
SUMMARY:Planning Commission and DDA Meetings
DESCRIPTION:The Village of Lennon Downtown Development Commission and Planning Commissi
 on will hold the monthly meeting on Wednesday, June 3, 2024 at 6:00 p.m.   
 at the Village of Lennon Hall located at 11904 Lennon Rd., Lennon.   \nPubl
 ic is welcome to attend.   \nAgendas follow:  \n \nPlanning Commission\nMee
 ting Agenda\nJune 5th, 2024\nVillage of Lennon\n6:00 PM\n \nAGENDA\n \n\n -
  Call to order\n - Pledge of Allegiance\n - Roll Call\n - Approval of the A
 genda\n - Approval of the Minutes from May 1st Meeting\n - Correspondence:\
 n - Public Comments:\n - Old Business ~\n - Discussion on revising Building
  Ordinance to include Shipping Container\n - Burning ordinance revision\n -
  New Business\n -  XI  Public Comments :\nXII Adjournment: Time; __________
 _\n \n2024 meeting dates: July 3rd, August 7th, September 4th, October 2nd,
  November 6th and December 4th\nVillage of Lennon\nDowntown Development Aut
 hority\nMeeting Agenda\nJune 5th, 2024\n6:00 PM\n \nAGENDA\n \n\n - Call to
  order\n - Pledge of Allegiance\n - Roll Call \n\n - Approval of the Agenda
 \n - Approval of the Minutes from May 1st Meeting\n - Approval of the Treas
 urers report\n - Correspondence:\n - Public Comments:\n - Old Business\n - 
 Christmas Decorations\n - New BusinessXI  Public Comments\nXII Adjournment:
  Time; _______________________\n \n2024 Upcoming meeting dates:  July 3rd, 
 August 7th, September 4th, October 2nd, November 6th and December 4th\n \n 
 \n \n
X-ALT-DESC;FMTTYPE=text/html:<p>The Village of Lennon Downtown Development Commission and Planning Commi
 ssion will hold the monthly meeting on Wednesday, June 3, 2024 at 6:00 p.m.
    at the Village of Lennon Hall located at 11904 Lennon Rd., Lennon.   </p
 ><p>Public is welcome to attend.   </p><p>Agendas follow:  </p><p> </p><p><
 strong>Planning Commission</strong></p><p><strong>Meeting Agenda</strong></
 p><p><strong>June 5th, 2024</strong></p><p><strong>Village of Lennon</stron
 g></p><p><strong>6:00 PM</strong></p><p> </p><p><strong>AGENDA</strong></p>
 <p> </p><ol><li>Call to order</li><li>Pledge of Allegiance</li><li>Roll Cal
 l</li><li>Approval of the Agenda</li><li>Approval of the Minutes from May 1
 st Meeting</li><li>Correspondence:</li><li>Public Comments:</li><li>Old Bus
 iness ~<ol><li>Discussion on revising Building Ordinance to include Shippin
 g Container</li><li>Burning ordinance revision</li></ol></li><li>New Busine
 ss</li><li> </li></ol><p>XI  Public Comments :</p><p>XII Adjournment: Time;
  ___________</p><p> </p><p>2024 meeting dates: July 3rd, August 7th, Septem
 ber 4th, October 2nd, November 6th and December 4th</p><p><strong>Village o
 f Lennon</strong></p><p><strong>Downtown Development Authority</strong></p>
 <p><strong>Meeting Agenda</strong></p><p><strong>June 5th, 2024</strong></p
 ><p>6:00 PM</p><p> </p><p>AGENDA</p><p> </p><ol><li>Call to order</li><li>P
 ledge of Allegiance</li><li>Roll Call</li></ol><p> </p><ol><li>Approval of 
 the Agenda</li><li>Approval of the Minutes from May 1st Meeting</li><li>App
 roval of the Treasurers report</li><li>Correspondence:</li><li>Public Comme
 nts:</li><li>Old Business<ol><li>Christmas Decorations</li></ol></li><li>Ne
 w Business</li></ol><p>XI  Public Comments</p><p>XII Adjournment: Time; ___
 ____________________</p><p> </p><p>2024 Upcoming meeting dates:  July 3rd, 
 August 7th, September 4th, October 2nd, November 6th and December 4th</p><p
 > </p><p> </p><p> </p>
DTSTAMP:20260421T215946
DTSTART;VALUE=DATE:20240605
DTEND;VALUE=DATE:20240609
SEQUENCE:0
TRANSP:OPAQUE
END:VEVENT
END:VCALENDAR