BEGIN:VCALENDAR
VERSION:2.0
PRODID:-//jEvents 2.0 for Joomla//EN
CALSCALE:GREGORIAN
METHOD:PUBLISH
BEGIN:VEVENT
UID:ae5f2c588a4cd2a590d56251814c7fd6
CATEGORIES:Notice
CREATED:20240508T141834
SUMMARY:May Council Meeting
DESCRIPTION:The Village of Lennon will hold its regular council meeting on Monday, May 
 13 at 6:30 p.m.    The meeting will be held at the Village of Lennon hall l
 ocated at 11904 Lennon Rd., Lennon. \n Agenda follows.  \nThe Public is enc
 ouraged to attend.  \nVillage of Lennon - AgendaCouncil Meeting\nMay 13, 20
 24\n AgendaOpen at 6:30 P.M.\nCall to Order\nPledge of Allegiance\nRoll Cal
 l\nApproval Minutes of Regular Meeting – April 8, 2024\nApproval of the Age
 nda\nTreasurer’s Report\nPayment of Bills and Wages \nPublic Participation 
 1: \nReports\n\n - Police Commission Report\n - Building Inspector\n - DPW 
 Report/Building &amp; Grounds\n - WWS\n - Planning Commission/DDA\n - Bligh
 t Committee\n - Correspondence \nOld business:\n\n - Vacant Lot - Carryover
  – On Hold           \nNew Business: \n\n -  Public Participation 2:  \n   
            \nAdjournment:\n \n \n
X-ALT-DESC;FMTTYPE=text/html:<p>The Village of Lennon will hold its regular council meeting on Monday, M
 ay 13 at 6:30 p.m.    The meeting will be held at the Village of Lennon hal
 l located at 11904 Lennon Rd., Lennon. </p><p> Agenda follows.  </p><p>The 
 Public is encouraged to attend.  </p><h2>Village of Lennon - Agenda</h2><p>
 <strong>Council Meeting</strong></p><p><strong>May 13, 2024</strong></p><h1
 > </h1><h1>Agenda</h1><p>Open at 6:30 P.M.</p><p>Call to Order</p><p>Pledge
  of Allegiance</p><p>Roll Call</p><p>Approval Minutes of Regular Meeting – 
 April 8, 2024</p><p>Approval of the Agenda</p><p>Treasurer’s Report</p><p>P
 ayment of Bills and Wages </p><p><strong>Public Participation 1: </strong><
 /p><p><strong>Reports</strong></p><ol><li>Police Commission Report</li><li>
 Building Inspector</li><li>DPW Report/Building &amp; Grounds</li><li>WWS</l
 i><li>Planning Commission/DDA</li><li>Blight Committee</li><li>Corresponden
 ce</li></ol><p> </p><p><strong>Old business:</strong></p><ol><li>Vacant Lot
  - Carryover – On Hold</li></ol><p><strong> </strong>          </p><p><stro
 ng>New Business: </strong></p><ol><li><strong> </strong></li></ol><p><stron
 g>Public Participation 2:  </strong></p><p><strong>              </strong><
 /p><p><strong>Adjournment:</strong></p><p> </p><p> </p>
DTSTAMP:20260421T202656
DTSTART;VALUE=DATE:20240508
DTEND;VALUE=DATE:20240515
SEQUENCE:0
TRANSP:OPAQUE
END:VEVENT
END:VCALENDAR