BEGIN:VCALENDAR
VERSION:2.0
PRODID:-//jEvents 2.0 for Joomla//EN
CALSCALE:GREGORIAN
METHOD:PUBLISH
BEGIN:VEVENT
UID:e07e74b73c721e4ea2e844ceb9237bd4
CATEGORIES:Notice
CREATED:20240402T133146
SUMMARY:Planning Commission/DDA Meeting
DESCRIPTION:The Village of Lennon Planning Commission and Downtown Development Authorit
 y will hold its monthly meeting on Wednesday, April 3, 2024 at 6:00 p.m.   
 All are invited to attend.    \n \n \nVillage of Lennon\nPlanning Commissio
 n\nMeeting Agenda\nApril 3rd, 2024\n6:00 PM\n \nAGENDA  - Planning Commissi
 on\n\n - Call to order\n - Pledge of Allegiance\n - Roll Call\n - Approval 
 of the Agenda\n - Approval of the Minutes from March 6th Meeting\n - Corres
 pondence:\n - Public Comments 1:           \n - Old Business\n - Discussion
  on revising Building Ordinance to include Shipping Container vs generating
  a new Ordinance\n - New Business\n - Revised 2024 Meeting Calendar \nXI  P
 ublic Comments 2 :\nXII Adjournment: Time\n \nVillage of Lennon\nDowntown D
 evelopment Authority\nMeeting Agenda\nApril 3rd, 2023\n6:00 PM\n \nAGENDA -
  Downtown Development Authority\n \n\n - Call to order\n - Pledge of Allegi
 ance\n - Roll Call\n - Approval of the Agenda\n - Approval of the Minutes f
 rom February 7th Meeting\n - Approval of the Treasurers report\n - Correspo
 ndence:\n - Public Comments:\n - Old Business\n - New BusinessXI  Public Co
 mments:\nXII Adjournment:\n \n
X-ALT-DESC;FMTTYPE=text/html:<p>The Village of Lennon Planning Commission and Downtown Development Autho
 rity will hold its monthly meeting on Wednesday, April 3, 2024 at 6:00 p.m.
    All are invited to attend.    </p><p> </p><p> </p><p><strong>Village of 
 Lennon</strong></p><p><strong>Planning Commission</strong></p><p><strong>Me
 eting Agenda</strong></p><p><strong>April 3rd, 2024</strong></p><p><strong>
 6:00 PM</strong></p><p> </p><p><strong>AGENDA  - Planning Commission</stron
 g></p><ol><li>Call to order</li><li>Pledge of Allegiance</li><li>Roll Call<
 /li><li>Approval of the Agenda</li><li>Approval of the Minutes from March 6
 th Meeting</li><li>Correspondence:</li><li>Public Comments 1:           </l
 i><li>Old Business<ol><li>Discussion on revising Building Ordinance to incl
 ude Shipping Container vs generating a new Ordinance</li></ol></li><li>New 
 Business</li><li>Revised 2024 Meeting Calendar</li></ol><p> </p><p>XI  Publ
 ic Comments 2 :</p><p>XII Adjournment: Time</p><p> </p><p><strong>Village o
 f Lennon</strong></p><p><strong>Downtown Development Authority</strong></p>
 <p><strong>Meeting Agenda</strong></p><p><strong>April 3rd, 2023</strong></
 p><p><strong>6:00 PM</strong></p><p> </p><p><strong>AGENDA - Downtown Devel
 opment Authority</strong></p><p> </p><ol><li>Call to order</li><li>Pledge o
 f Allegiance</li><li>Roll Call</li><li>Approval of the Agenda</li><li>Appro
 val of the Minutes from February 7th Meeting</li><li>Approval of the Treasu
 rers report</li><li>Correspondence:</li><li>Public Comments:</li><li>Old Bu
 siness</li><li>New Business</li></ol><p>XI  Public Comments:</p><p>XII Adjo
 urnment:</p><p> </p>
DTSTAMP:20260421T202721
DTSTART;VALUE=DATE:20240404
DTEND;VALUE=DATE:20240405
SEQUENCE:0
TRANSP:OPAQUE
END:VEVENT
END:VCALENDAR