BEGIN:VCALENDAR
VERSION:2.0
PRODID:-//jEvents 2.0 for Joomla//EN
CALSCALE:GREGORIAN
METHOD:PUBLISH
BEGIN:VEVENT
UID:eae3dd163591417c37f01aa427ee4641
CATEGORIES:Notice
CREATED:20240327T114446
SUMMARY:Police Commission Meeting
DESCRIPTION:Notice\nThe Police Commission will have a meeting on Thursday, March 28, 20
 24 at 6:00 p.m.  The meeting will be held at the Lennon Village Hall.  \nPu
 blic is invited  \n
X-ALT-DESC;FMTTYPE=text/html:<p>Notice</p><p>The Police Commission will have a meeting on Thursday, Marc
 h 28, 2024 at 6:00 p.m.  The meeting will be held at the Lennon Village Hal
 l.  </p><p>Public is invited  </p>
DTSTAMP:20260421T185833
DTSTART;VALUE=DATE:20240327
DTEND;VALUE=DATE:20240328
SEQUENCE:0
TRANSP:OPAQUE
END:VEVENT
END:VCALENDAR