BEGIN:VCALENDAR
VERSION:2.0
PRODID:-//jEvents 2.0 for Joomla//EN
CALSCALE:GREGORIAN
METHOD:PUBLISH
BEGIN:VEVENT
UID:d41b7a9da9d737b8126418226bda1fa6
CATEGORIES:Notice
CREATED:20240305T070535
SUMMARY:Planning Commission/DDA Meeting
DESCRIPTION:NOTICE\nThe Village of Lennon Planning Commission and Downtown Development 
 Authority will hold a regular meeting on Wednesday, March 6, 2024 at 6:00 p
 .m.  The meeting will be held at the Lennon Village Hall located at 11904 L
 ennon Rd., Lennon.  \nPublic is encouraged to attend.  \n \n
X-ALT-DESC;FMTTYPE=text/html:<p>NOTICE</p><p>The Village of Lennon Planning Commission and Downtown Deve
 lopment Authority will hold a regular meeting on Wednesday, March 6, 2024 a
 t 6:00 p.m.  The meeting will be held at the Lennon Village Hall located at
  11904 Lennon Rd., Lennon.  </p><p>Public is encouraged to attend.  </p><p>
  </p>
DTSTAMP:20260421T185936
DTSTART:20240305T080000
DTEND:20240307T170000
SEQUENCE:0
TRANSP:OPAQUE
END:VEVENT
END:VCALENDAR