BEGIN:VCALENDAR
VERSION:2.0
PRODID:-//jEvents 2.0 for Joomla//EN
CALSCALE:GREGORIAN
METHOD:PUBLISH
BEGIN:VEVENT
UID:0909ede26f23db5c3b6497107b4f0164
CATEGORIES:Notice
CREATED:20240104T120357
SUMMARY:Regular Council Meeting 
DESCRIPTION:<p>Public Notice - Village of Lennon</p><p>The Village of Lennon will hold 
 it regular monthly Council Meeting on Monday, January 8, 2024 at 6:30 p.m. 
   The meeting will be held at the Village of Lennon Hall located at 11904 L
 ennon Road, Lennon.   </p><p>Everyone is welcome to attend.   </p><p>Agenda
  Follows</p><h2>Village of Lennon</h2><p><strong>Council Meeting</strong></
 p><p><strong>January 8, 2024</strong></p><h1> </h1><h1>Agenda</h1><p> </p><
 p>Open at 6:30 P.M.</p><p>Call to Order</p><p>Pledge of Allegiance</p><p>Ro
 ll Call</p><p>Approval Minutes of Regular Meeting – December 11, 2023</p><p
 >Approval of the Agenda</p><p>Treasurer’s Report</p><p>Payment of Bills and
  Wages </p><p> </p><p><strong>Public Participation 1: </strong></p><p><stro
 ng>Reports</strong></p><ol><li>Police Commission Report</li><li>Building In
 spector</li><li>DPW Report/Building &amp; Grounds</li><li>WWS</li><li>Plann
 ing Commission/DDA</li><li>Blight Committee</li><li>Correspondence</li></ol
 ><p> </p><p><strong>Old business:</strong></p><ol><li>Vacant Lot - Carryove
 r</li></ol><p><strong> </strong>          </p><p><strong>New Business: </st
 rong></p><ol><li>Land Split</li></ol><p> </p><p><strong>Public Participatio
 n 2:  </strong></p><p><strong>           </strong></p><p><strong>Adjournmen
 t:</strong></p><p> </p><p> </p><p> </p><p> </p>
DTSTAMP:20260421T222421
DTSTART;VALUE=DATE:20240107
DTEND;VALUE=DATE:20240113
SEQUENCE:0
TRANSP:OPAQUE
END:VEVENT
END:VCALENDAR