BEGIN:VCALENDAR
VERSION:2.0
PRODID:-//jEvents 2.0 for Joomla//EN
CALSCALE:GREGORIAN
METHOD:PUBLISH
BEGIN:VEVENT
UID:97bd10f8b4208d90ef40710b036c744d
CATEGORIES:Notice
CREATED:20231220T122431
SUMMARY:Planning Commission/ DDA Meeting
DESCRIPTION:<p>Meeting Notice</p><p> </p><p>The Village of Lennon Planning Commission a
 nd Downtown Development Authority will hold a meeting on Thursday, December
  21 at 2:00 p.m.  at the Village of Lennon Hall located at 11904 Lennon Roa
 d, Lennon. </p><p>Public is encouraged to attend.</p>
DTSTAMP:20260422T014436
DTSTART;VALUE=DATE:20231221
DTEND;VALUE=DATE:20231222
SEQUENCE:0
TRANSP:OPAQUE
END:VEVENT
END:VCALENDAR