BEGIN:VCALENDAR
VERSION:2.0
PRODID:-//jEvents 2.0 for Joomla//EN
CALSCALE:GREGORIAN
METHOD:PUBLISH
BEGIN:VEVENT
UID:09572fe0e86ad80fb802fe06ec10d321
CATEGORIES:Notice
CREATED:20231207T142903
SUMMARY:Council Meeting 
DESCRIPTION:<p>The Village of Lennon will hold its regularly scheduled Council Meeting 
 on Monday, December 11, 2023 at 6:30 p.m.   The meeting will be held at the
  Lennon Village Hall located at 11904 Lennon Rd., Lennon, MI   48449</p><p>
  </p><p>Public is encouraged to attend! </p><h2 style="text-align: center;"
 >Village of Lennon</h2><p style="text-align: center;"><strong>Council Meeti
 ng</strong></p><p style="text-align: center;"><strong>December 11, 2023</st
 rong></p><h1> </h1><h1 style="text-align: center;">Agenda</h1><p> </p><p>Op
 en at 6:30 P.M.</p><p>Call to Order</p><p>Pledge of Allegiance</p><p>Roll C
 all</p><p>Approval Minutes of Regular Meeting – November 13, 2023</p><p>App
 roval of the Agenda</p><p>Treasurer’s Report</p><p>Payment of Bills and Wag
 es </p><p> </p><p> </p><p><strong> </strong></p><p><strong>Public Participa
 tion 1: </strong></p><p> </p><p> </p><p><strong>Reports</strong></p><ol><li
 >Police Commission Report</li><li>Building Inspector</li><li>DPW Report/Bui
 lding &amp; Grounds</li><li>WWS</li><li>Planning Commission/DDA</li><li>Bli
 ght Committee</li><li>Correspondence</li></ol><p> </p><p><strong>Old busine
 ss:</strong></p><ol><li>Vacant Lot - Carryover</li></ol><p><strong> </stron
 g></p><p>           </p><p><strong>New Business: </strong></p><ol><li>2024 
 Council Meeting Dates</li><li>Appointment Planning/DDA member replacement</
 li><li>2023 Holiday Bonus</li></ol><p> </p><p> </p><p><strong>Public Partic
 ipation 2:  </strong></p><p><strong>              </strong></p><p><strong>A
 djournment:</strong></p><p> </p><p> </p>
DTSTAMP:20260422T000115
DTSTART;VALUE=DATE:20231212
DTEND;VALUE=DATE:20231218
SEQUENCE:0
TRANSP:OPAQUE
END:VEVENT
END:VCALENDAR