BEGIN:VCALENDAR
VERSION:2.0
PRODID:-//jEvents 2.0 for Joomla//EN
CALSCALE:GREGORIAN
METHOD:PUBLISH
BEGIN:VEVENT
UID:f282258f8a7fda4cd031ab8f9a2154b2
CATEGORIES:Notice
CREATED:20230824T152836
SUMMARY:Public Hearing  Variance Request
DESCRIPTION:Village of Lennon \n \nPublication notice for public hearing on Variance Ap
 plication #23-01\n \nThe Village of Lennon Council will conduct a public he
 aring on Monday, September 11, 2023, at 6:30 p.m. at the Village of Lennon 
 Hall located at 11904 Lennon Road, Lennon, Michigan 48449 regarding Varianc
 e Application #23-01.  Variance Application #23-01 filed by Terry Kemp on b
 ehalf of Lennon Mini Storage requests a variance from the Village of Lennon
  Zoning Ordinance setback requirements for properties zoned Commercial B.  
 A complete copy of Variance Application #23-01 with all corresponding docum
 ents and a copy of all Village of Lennon Ordinances can be obtained at the 
 Village of Lennon Hall located at 11904 Lennon Road, Lennon, Michigan 48849
  during regular business hours or on the Village of Lennon web site at vill
 ageoflennon.org.\n \n
X-ALT-DESC;FMTTYPE=text/html:<p><strong>Village of Lennon </strong></p><p><strong> </strong></p><p><stro
 ng>Publication notice for public hearing on Variance Application #23-01</st
 rong></p><p><strong> </strong></p><p>The Village of Lennon Council will con
 duct a public hearing on Monday, September 11, 2023, at 6:30 p.m. at the Vi
 llage of Lennon Hall located at 11904 Lennon Road, Lennon, Michigan 48449 r
 egarding Variance Application #23-01.  Variance Application #23-01 filed by
  Terry Kemp on behalf of Lennon Mini Storage requests a variance from the V
 illage of Lennon Zoning Ordinance setback requirements for properties zoned
  Commercial B.  A complete copy of Variance Application #23-01 with all cor
 responding documents and a copy of all Village of Lennon Ordinances can be 
 obtained at the Village of Lennon Hall located at 11904 Lennon Road, Lennon
 , Michigan 48849 during regular business hours or on the Village of Lennon 
 web site at villageoflennon.org.</p><p> </p>
DTSTAMP:20260422T223517
DTSTART;VALUE=DATE:20230905
DTEND;VALUE=DATE:20230925
SEQUENCE:0
TRANSP:OPAQUE
END:VEVENT
END:VCALENDAR