BEGIN:VCALENDAR
VERSION:2.0
PRODID:-//jEvents 2.0 for Joomla//EN
CALSCALE:GREGORIAN
METHOD:PUBLISH
BEGIN:VEVENT
UID:da40023f301eb7174b667bcff1981579
CATEGORIES:Notice
CREATED:20230823T123536
SUMMARY:Public Hearing - Chicken Ordinance 
DESCRIPTION:NOTICE FOR PUBLIC HEARING ON ORDINANCE 2023-0707-01 AMENDING THE VILLAGE OF
  LENNON ZONING ORDINANCE TO REGULATE THE KEEPING OF NONCOMMERCIAL FEMALE CH
 ICKENS ON RESIDENTIAL PROPERTIES\nThe Village of Lennon located at 11904 E.
  Lennon Road, Lennon, Michigan 48449, will conduct a public meeting on Sept
 ember 11, 2023, at 6:30 p.m. regarding the adoption of the proposed amended
  Village of Lennon Zoning Ordinance.  The proposed amended Village of Lenno
 n Zoning Ordinance provides regulations for the keeping of noncommercial fe
 male chickens on residential properties in the Village of Lennon.  The Vill
 age of Lennon Council will take public comments on the proposed amended Vil
 lage of Lennon Zoning Ordinance at 6:30 p.m. on Monday, September 11, 2023,
  at 6:30 p.m.  A complete copy of the proposed amended Village of Lennon Zo
 ning Ordinance as well as all corresponding documents and a complete copy o
 f all Village of Lennon ordinances can be obtained at the Village of Lennon
  Hall located at 11904 E. Lennon Road, Lennon, Michigan 48449 during busine
 ss hours and on the Village of Lennon web site at www.villageoflennon.com. 
 \nTo read the proposed ordinance do the following: \nFrom the Home page sel
 ect  (1) DOCUMENTS\n                                               (2) MUNI
 CIPAL CODES\n                                               (3) ORDINANCES\
 n                                               (4) PROPOSED NEW ORDINANCES
 \n                                               (5) AN ORDINANCE TO REGULA
 TE HE KEEPING OF NON COMMERCIAL FEMALE CHICKENS ON RESIDETIAL PROPERTIES\n 
 \n
X-ALT-DESC;FMTTYPE=text/html:<p><strong>NOTICE FOR PUBLIC HEARING ON ORDINANCE 2023-0707-01 AMENDING THE
  VILLAGE OF LENNON ZONING ORDINANCE TO REGULATE THE KEEPING OF NONCOMMERCIA
 L FEMALE CHICKENS ON RESIDENTIAL PROPERTIES</strong></p><p>The Village of L
 ennon located at 11904 E. Lennon Road, Lennon, Michigan 48449, will conduct
  a public meeting on September 11, 2023, at 6:30 p.m. regarding the adoptio
 n of the proposed amended Village of Lennon Zoning Ordinance.  The proposed
  amended Village of Lennon Zoning Ordinance provides regulations for the ke
 eping of noncommercial female chickens on residential properties in the Vil
 lage of Lennon.  The Village of Lennon Council will take public comments on
  the proposed amended Village of Lennon Zoning Ordinance at 6:30 p.m. on Mo
 nday, September 11, 2023, at 6:30 p.m.  A complete copy of the proposed ame
 nded Village of Lennon Zoning Ordinance as well as all corresponding docume
 nts and a complete copy of all Village of Lennon ordinances can be obtained
  at the Village of Lennon Hall located at 11904 E. Lennon Road, Lennon, Mic
 higan 48449 during business hours and on the Village of Lennon web site at 
 www.villageoflennon.com. </p><p>To read the proposed ordinance do the follo
 wing: </p><p>From the Home page select  (1) DOCUMENTS</p><p>               
                                 (2) MUNICIPAL CODES</p><p>                 
                               (3) ORDINANCES</p><p>                        
                        (4) PROPOSED NEW ORDINANCES</p><p>                  
                              (5) AN ORDINANCE TO REGULATE HE KEEPING OF NON
  COMMERCIAL FEMALE CHICKENS ON RESIDETIAL PROPERTIES</p><p> </p>
DTSTAMP:20260422T224450
DTSTART;VALUE=DATE:20230903
DTEND;VALUE=DATE:20230924
SEQUENCE:0
TRANSP:OPAQUE
END:VEVENT
END:VCALENDAR