BEGIN:VCALENDAR
VERSION:2.0
PRODID:-//jEvents 2.0 for Joomla//EN
CALSCALE:GREGORIAN
METHOD:PUBLISH
BEGIN:VEVENT
UID:725c47e2d804a55a17fee068e0759136
CATEGORIES:Notice
CREATED:20230801T114306
SUMMARY:Planning Commission Meeting
DESCRIPTION:<p>The Planning Commission and Downtown Development Authority will have a m
 eeting on Wednesday, August 2, 2023 at 6:00 p.m.   </p>
DTSTAMP:20260422T145845
DTSTART;VALUE=DATE:20230803
DTEND;VALUE=DATE:20230805
SEQUENCE:0
TRANSP:OPAQUE
END:VEVENT
END:VCALENDAR