BEGIN:VCALENDAR
VERSION:2.0
PRODID:-//jEvents 2.0 for Joomla//EN
CALSCALE:GREGORIAN
METHOD:PUBLISH
BEGIN:VEVENT
UID:05ab4a5b5b75310ad5d58a6ab86c68a5
CATEGORIES:Notice
CREATED:20230508T122438
SUMMARY:Amended Master Plan - Draft
DESCRIPTION:PUBLIC HEARING NOTICE FOR AMENDED VILLAGE OF LENNON MASTER PLAN\n \n \nThe 
 Village of Lennon Planning Commission  located at 11904 E. Lennon Road, Len
 non, Michigan 48449, will conduct a public meeting on August 14 at 6:00 p.m
 . regarding the adoption of the proposed amended Village of Lennon Master P
 lan. The proposed amended Village of Lennon Master Plan amends the current 
 2013-2033 Village of Lennon Master Plan to include undated information from
  the 2020 United States Census. The Village of Lennon Planning Commission  
 will take public comments on the proposed amended Village of Lennon Master 
 Plan at 6:00 p.m. on Monday, August 14,  2023 at 6:00 p.m. A complete copy 
 of the proposed amended Village of Lennon Master Plan as well as all corres
 ponding documents and a complete copy of the current Village of Lennon 2013
 -2033 Master Plan can be obtained at the Village of Lennon Hall located at 
 11904 E. Lennon Road, Lennon, Michigan 48449 during business hours and on t
 he Village of Lennon web site at www.villageoflennon.com. (http://www.villa
 geoflennon.com/) You may also submit written comments to the Village of Len
 non Clerk no later than 12:00p.m. on August 14, 2023 at This email address 
 is being protected from spambots. You need JavaScript enabled to view it. (
 mailto:villageclerk@lentel.com) or contact Village of Lennon officials at (
 810) 621-4285.\nThe Village of Lennon Amended Master Plan Draft may be loca
 ted by doing the following:  \nOn the Home Screen click on:       \nOn the 
 next screen click on\n \n \n
X-ALT-DESC;FMTTYPE=text/html:<p>PUBLIC HEARING NOTICE FOR AMENDED VILLAGE OF LENNON MASTER PLAN</p><p><s
 trong> </strong></p><p><strong> </strong></p><p>The Village of Lennon Plann
 ing Commission  located at 11904 E. Lennon Road, Lennon, Michigan 48449, wi
 ll conduct a public meeting on August 14 at 6:00 p.m. regarding the adoptio
 n of the proposed amended Village of Lennon Master Plan. The proposed amend
 ed Village of Lennon Master Plan amends the current 2013-2033 Village of Le
 nnon Master Plan to include undated information from the 2020 United States
  Census. The Village of Lennon Planning Commission  will take public commen
 ts on the proposed amended Village of Lennon Master Plan at 6:00 p.m. on Mo
 nday, August 14,  2023 at 6:00 p.m. A complete copy of the proposed amended
  Village of Lennon Master Plan as well as all corresponding documents and a
  complete copy of the current Village of Lennon 2013-2033 Master Plan can b
 e obtained at the Village of Lennon Hall located at 11904 E. Lennon Road, L
 ennon, Michigan 48449 during business hours and on the Village of Lennon we
 b site at <a href="http://www.villageoflennon.com/">www.villageoflennon.com
 .</a> You may also submit written comments to the Village of Lennon Clerk n
 o later than 12:00p.m. on August 14, 2023 at <a href="mailto:villageclerk@l
 entel.com"><u><joomla-hidden-mail  is-link="1" is-email="1" first="dmlsbGFn
 ZWNsZXJr" last="bGVudGVsLmNvbQ==" text="dmlsbGFnZWNsZXJrQGxlbnRlbC5jb20=" b
 ase="" >This email address is being protected from spambots. You need JavaS
 cript enabled to view it.</joomla-hidden-mail></u></a> or contact Village o
 f Lennon officials at (810) 621-4285.</p><p>The Village of Lennon Amended M
 aster Plan Draft may be located by doing the following:  </p><p>On the Home
  Screen click on:       </p><p>On the next screen click on</p><p> </p><p> <
 /p>
DTSTAMP:20260422T174310
DTSTART;VALUE=DATE:20230808
DTEND;VALUE=DATE:20230905
SEQUENCE:0
TRANSP:OPAQUE
END:VEVENT
END:VCALENDAR