BEGIN:VCALENDAR
VERSION:2.0
PRODID:-//jEvents 2.0 for Joomla//EN
CALSCALE:GREGORIAN
METHOD:PUBLISH
BEGIN:VEVENT
UID:e6203c61071d06273e25fef72ccd476b
CATEGORIES:Notice
CREATED:20230209T124542
SUMMARY:Regular Council Meeting
DESCRIPTION:<p>The Village of Lennon will hold its regular Council meeting on Monday, F
 ebruary 13, 2023 at 6:30 p.m.  The meeting will be held at the Lennon Villa
 ge hall located at 11904 Lennon Rd.  Public is encouraged to attend.  </p>
DTSTAMP:20260422T014436
DTSTART:20230210T183000
DTEND;VALUE=DATE:20230216
SEQUENCE:0
TRANSP:OPAQUE
END:VEVENT
END:VCALENDAR