BEGIN:VCALENDAR
VERSION:2.0
PRODID:-//jEvents 2.0 for Joomla//EN
CALSCALE:GREGORIAN
METHOD:PUBLISH
BEGIN:VEVENT
UID:394687c32ccb6388f63d2d2e4dd81858
CATEGORIES:Notice
CREATED:20230105T130733
SUMMARY:Regular Council Meeting Agenda
DESCRIPTION:Village of LennonCouncil Meeting\nJanuary 9, 2023                 THE JANUA
 RY 9, 2023 MEETING HAS BEEN CANCELLED AND RESCHEDULED FOR MONDAY, JANUARY 1
 6, 2023 AT 6:30.   P.M.   \n Agenda \nOpen at 6:30 P.M.\nCall to Order\nPle
 dge of Allegiance\nRoll Call\nApproval Minutes of Regular Meeting – Decembe
 r 12, 2022\nApproval of the Agenda\nTreasurer’s Report\nPayment of Bills an
 d Wages \n \nPublic Participation 1: \n \nReports\n\n - Police Commission R
 eport\n - Building Inspector\n - DPW Report/Building &amp; Grounds\n - WWS\
 n - Planning Commission\n - Blight Committee\n - Correspondence \nOld busin
 ess:\n \n\n - Chicken Ordinance – Tabled from October           \nNew Busin
 ess: \n \nPublic Participation 2:  \n              \nAdjournment:\n
X-ALT-DESC;FMTTYPE=text/html:<h2>Village of Lennon</h2><p><strong>Council Meeting</strong></p><p><strong
 >January 9, 2023                 <span style="color: #ff0000;">THE JANUARY 
 9, 2023 MEETING HAS BEEN CANCELLED AND RESCHEDULED FOR MONDAY, JANUARY 16, 
 2023 AT 6:30.   P.M.   </span></strong></p><h1> </h1><h1>Agenda</h1><p> </p
 ><p>Open at 6:30 P.M.</p><p>Call to Order</p><p>Pledge of Allegiance</p><p>
 Roll Call</p><p>Approval Minutes of Regular Meeting – December 12, 2022</p>
 <p>Approval of the Agenda</p><p>Treasurer’s Report</p><p>Payment of Bills a
 nd Wages </p><p> </p><p><strong>Public Participation 1: </strong></p><p> </
 p><p><strong>Reports</strong></p><ol><li>Police Commission Report</li><li>B
 uilding Inspector</li><li>DPW Report/Building &amp; Grounds</li><li>WWS</li
 ><li>Planning Commission</li><li>Blight Committee</li><li>Correspondence</l
 i></ol><p> </p><p><strong>Old business:</strong></p><p><strong> </strong></
 p><ol><li>Chicken Ordinance – Tabled from October</li></ol><p>           </
 p><p><strong>New Business: </strong></p><p> </p><p><strong>Public Participa
 tion 2:  </strong></p><p><strong>              </strong></p><p><strong>Adjo
 urnment:</strong></p>
DTSTAMP:20260421T235609
DTSTART:20230105T080000
DTEND;VALUE=DATE:20230111
SEQUENCE:0
TRANSP:OPAQUE
END:VEVENT
END:VCALENDAR