BEGIN:VCALENDAR
VERSION:2.0
PRODID:-//jEvents 2.0 for Joomla//EN
CALSCALE:GREGORIAN
METHOD:PUBLISH
BEGIN:VEVENT
UID:ff55111f10c61777ef05047f418c2f71
CATEGORIES:Notice
CREATED:20260310T124631
SUMMARY:Lennon Road Pavement Improvements 
DESCRIPTION:VILLAGE OF LENNON SHIAWASSEE COUNTYLENNON ROAD PAVEMENT IMPROVEMENTS\nADVER
 TISEMENT FOR BIDS\nSealed Bids for the construction of the Lennon Road Pave
 ment Improvements will be received, by the Village of Lennon, at Spicer Gro
 up, 999 South Washington Avenue, Saginaw, MI 48601 until 10:00AM local time
  on April 3rd, 2026 at which time the Bids received will be publicly opened
  and read. The Project consists of completing local street improvements by 
 milling of the existing road, intermittent curb and gutter removal and repl
 acement, HMA paving, pavement markings, and permanent signing.\nEach propos
 al shall be accompanied by certified check or bidder's bond in the amount o
 f 5% of the bid. Checks shall be drawn payable to VILLAGE OF LENNON as secu
 rity for the acceptance of the Contract and subject to the conditions state
 d in the Instructions to Bidders.\n \nThe Owner reserves the right to waive
  an informality in any bid, to reject any or all bids, or accept any bid wh
 ich is considered most favorable to the Owner.\n \nThe issuing Office for t
 he Bidding Documents is Spicer Group, Inc., contact Jeff Schwartz, Project 
 Manager at 989-754-4717. Electronic copies of plans, proposal forms and spe
 cifications may be viewed beginning March 13th, 2026 on the bidding section
  of the Spicer Group website at www.spicergroup.com. (http://www.spicergrou
 p.com/) Documents may be downloaded at a cost of $22.00. Please contact Que
 st CDN Customer Support at (952) 233-1632 or This email address is being pr
 otected from spambots. You need JavaScript enabled to view it. for assistan
 ce in membership registration, downloading and working with digital project
  information.\nAll addendums will also be posted to this website. The Contr
 actor is responsible for ensuring all addendums have been received and ackn
 owledged prior to submittal of the bid. No paper copies of these documents 
 will be available for purchase.\n \nOWNER:Village of Lennon\n \nDESIGN PROF
 ESSIONAL:Spicer Group, Inc.\n230 S. Washington Ave. Saginaw, MI 48607\n \n 
 \n \n \n \n
X-ALT-DESC;FMTTYPE=text/html:<h1 style="text-align: center;">VILLAGE OF LENNON SHIAWASSEE COUNTY</h1><p 
 style="text-align: center;"><strong>LENNON ROAD PAVEMENT IMPROVEMENTS</stro
 ng></p><p style="text-align: center;"><span style="color: #000000;"><u>ADVE
 RTISEMENT FOR BIDS</u></span></p><p><span style="color: #000000;">Sealed Bi
 ds for the construction of the <strong>Lennon Road Pavement Improvements </
 strong>will be received, by <strong>the Village of Lennon</strong>, at Spic
 er Group, 999 South Washington Avenue, Saginaw, MI 48601 until <strong>10:0
 0AM </strong>local time on <strong>April 3<sup>rd</sup>, 2026 </strong>at w
 hich time</span> the Bids received will be publicly opened and read. The Pr
 oject consists of completing local street improvements by milling of the ex
 isting road, intermittent curb and gutter removal and replacement, HMA pavi
 ng, pavement markings, and permanent signing.</p><p>Each proposal shall be 
 accompanied by certified check or bidder's bond in the amount of 5% of the 
 bid. Checks shall be drawn payable to <strong>VILLAGE OF LENNON </strong>as
  security for the acceptance of the Contract and subject to the conditions 
 stated in the Instructions to Bidders.</p><p> </p><p>The Owner reserves the
  right to waive an informality in any bid, to reject any or all bids, or ac
 cept any bid which is considered most favorable to the Owner.</p><p> </p><p
 >The issuing Office for the Bidding Documents is Spicer Group, Inc., contac
 t Jeff Schwartz, Project Manager at 989-754-4717. Electronic copies of plan
 s, proposal forms and specifications may be viewed beginning <strong>March 
 13<sup>th</sup>, 2026 </strong>on the bidding section of the Spicer Group w
 ebsite at <a href="http://www.spicergroup.com/">www.spicergroup.com.</a> Do
 cuments may be downloaded at a cost of $22.00. Please contact Quest CDN Cus
 tomer Support at (952) 233-1632 or <joomla-hidden-mail  is-link="1" is-emai
 l="1" first="aW5mbw==" last="cXVlc3RjZG4uY29t" text="aW5mb0BxdWVzdGNkbi5jb2
 0=" base="" >This email address is being protected from spambots. You need 
 JavaScript enabled to view it.</joomla-hidden-mail> for assistance in membe
 rship registration, downloading and working with digital project informatio
 n.</p><p>All addendums will also be posted to this website. The Contractor 
 is responsible for ensuring all addendums have been received and acknowledg
 ed prior to submittal of the bid. No paper copies of these documents will b
 e available for purchase.</p><p> </p><h2>OWNER:</h2><p>Village of Lennon</p
 ><p> </p><h2>DESIGN PROFESSIONAL:</h2><p>Spicer Group, Inc.</p><p>230 S. Wa
 shington Ave. Saginaw, MI 48607</p><p> </p><p> </p><p> </p><p> </p><p> </p>
DTSTAMP:20260421T153804
DTSTART;VALUE=DATE:20260313
DTEND;VALUE=DATE:20260404
SEQUENCE:0
TRANSP:OPAQUE
END:VEVENT
END:VCALENDAR