BEGIN:VCALENDAR
VERSION:2.0
PRODID:-//jEvents 2.0 for Joomla//EN
CALSCALE:GREGORIAN
METHOD:PUBLISH
BEGIN:VEVENT
UID:85aa0ab4f9ea4902599877498f805e96
CATEGORIES:Notice
CREATED:20260305T134152
SUMMARY:March 9, 2026 Council Meeting 
DESCRIPTION:The Village of Lennon will hold the monthly Council Meeting on Monday, Marc
 h 9, 2026 at 6:30 p.m.  The meeting will be held at the Village of Lennon h
 all located at 11904 Lennon Rd.   \nPublic is encouraged to attend.  \nAgen
 da follows:  \nVillage of LennonCouncil Meeting\nMarch 9, 2026\n Agenda \nO
 pen at 6:30 P.M.\nCall to Order\nPledge of Allegiance\nRoll Call\nApproval 
 Minutes of Regular Meeting – February 9, 2026\nApproval of the Agenda\nTrea
 surer’s Report\nPayment of Bills and Wages \n \nPublic Participation 1: \n 
 \nReports\n\n - Police Department Report\n - Building Inspector\n - DPW Rep
 ort/Building &amp; Grounds\n - WWS\n - Planning Commission\n - DDA\n - Blig
 ht Committee\n - Correspondence \nOld business\n \n\n - Village lot   78-00
 8-70-074 behind 11636 Lennon Rd (Getcy)- update\n - Proposed Culvert Ordina
 nce update \nNew Business:   \n\n -               \n \n \nPublic Participat
 ion 2:  \n              \nAdjournment:\n \n
X-ALT-DESC;FMTTYPE=text/html:<p>The Village of Lennon will hold the monthly Council Meeting on Monday, M
 arch 9, 2026 at 6:30 p.m.  The meeting will be held at the Village of Lenno
 n hall located at 11904 Lennon Rd.   </p><p>Public is encouraged to attend.
   </p><p>Agenda follows:  </p><h2>Village of Lennon</h2><p><strong>Council 
 Meeting</strong></p><p><strong>March 9, 2026</strong></p><h1> </h1><h1>Agen
 da</h1><p> </p><p>Open at 6:30 P.M.</p><p>Call to Order</p><p>Pledge of All
 egiance</p><p>Roll Call</p><p>Approval Minutes of Regular Meeting – Februar
 y 9, 2026</p><p>Approval of the Agenda</p><p>Treasurer’s Report</p><p>Payme
 nt of Bills and Wages </p><p><strong> </strong></p><p><strong>Public Partic
 ipation 1: </strong></p><p> </p><p><strong>Reports</strong></p><ol><li>Poli
 ce Department Report</li><li>Building Inspector</li><li>DPW Report/Building
  &amp; Grounds</li><li>WWS</li><li>Planning Commission</li><li>DDA</li><li>
 Blight Committee</li><li>Correspondence</li></ol><p> </p><p><strong>Old bus
 iness</strong></p><p> </p><ol><li>Village lot   78-008-70-074 behind 11636 
 Lennon Rd (Getcy)- update</li><li>Proposed Culvert Ordinance update</li></o
 l><p><strong> </strong></p><p><strong>New Business: </strong>  </p><ol><li>
  </li></ol><p>             </p><p> </p><p> </p><p><strong>Public Participat
 ion 2:  </strong></p><p><strong>              </strong></p><p><strong>Adjou
 rnment:</strong></p><p> </p>
DTSTAMP:20260421T153803
DTSTART;VALUE=DATE:20260309
DTEND;VALUE=DATE:20260311
SEQUENCE:0
TRANSP:OPAQUE
END:VEVENT
END:VCALENDAR