BEGIN:VCALENDAR
VERSION:2.0
PRODID:-//jEvents 2.0 for Joomla//EN
CALSCALE:GREGORIAN
METHOD:PUBLISH
BEGIN:VEVENT
UID:8de8ab0c60506fe30860f421cb66ca7d
CATEGORIES:Notice
CREATED:19700101T000000
SUMMARY:Regular Council Meeting 
DESCRIPTION:The Village of Lennon will hold its regular monthly council meeting on Mond
 ay, February 12, 2026 at 6:30 p.m.   at the Village of Lennon hall located 
 at 11904 Lennon Rd.  \nPublic invited to attend.       \nAgenda follows.   
 \nVillage of LennonCouncil Meeting\nFebruary 9,  2026\n Agenda \nOpen at 6:
 30 P.M.\nCall to Order\nPledge of Allegiance\nRoll Call\nApproval Minutes o
 f Regular Meeting – January 12, 2026\nApproval of Minutes of Special Counci
 l Meeting January 21, 2026\nApproval of the Agenda\nTreasurer’s Report\nPay
 ment of Bills and Wages \n Public Participation 1: \nReports\n\n - Police C
 ommission Report\n - Building Inspector\n - DPW Report/Building &amp; Groun
 ds\n - WWS\n - Planning Commission\n - DDA\n - Blight Committee\n - Corresp
 ondenceOld business\n\n - Village lot   78-008-70-074 behind 11636 Lennon R
 d (Getcy)- update \nNew Business:   \n\n - MAGNET\n - WWS Water      \n \n 
 \nPublic Participation 2:  \n          \nAdjourn\n
X-ALT-DESC;FMTTYPE=text/html:<p><strong>The Village of Lennon will hold its regular monthly council meet
 ing on Monday, February 12, 2026 at 6:30 p.m.   at the Village of Lennon ha
 ll located at 11904 Lennon Rd.  </strong></p><p><strong>Public invited to a
 ttend.       </strong></p><p><strong>Agenda follows.   </strong></p><h2>Vil
 lage of Lennon</h2><p><strong>Council Meeting</strong></p><p><strong>Februa
 ry 9,  2026</strong></p><h1> </h1><h1>Agenda</h1><p> </p><p>Open at 6:30 P.
 M.</p><p>Call to Order</p><p>Pledge of Allegiance</p><p>Roll Call</p><p>App
 roval Minutes of Regular Meeting – January 12, 2026</p><p>Approval of Minut
 es of Special Council Meeting January 21, 2026</p><p>Approval of the Agenda
 </p><p>Treasurer’s Report</p><p>Payment of Bills and Wages </p><p><strong> 
 </strong><strong>Public Participation 1: </strong></p><p><strong>Reports</s
 trong></p><ol><li>Police Commission Report</li><li>Building Inspector</li><
 li>DPW Report/Building &amp; Grounds</li><li>WWS</li><li>Planning Commissio
 n</li><li>DDA</li><li>Blight Committee</li><li>Correspondence</li></ol><p><
 strong>Old business</strong></p><ol><li>Village lot   78-008-70-074 behind 
 11636 Lennon Rd (Getcy)- update</li></ol><p><strong> </strong></p><p><stron
 g>New Business: </strong>  </p><ol><li>MAGNET</li><li>WWS Water</li></ol><p
 >      </p><p> </p><p> </p><p><strong>Public Participation 2:  </strong></p
 ><p><strong>          </strong></p><p><strong>Adjourn</strong></p>
DTSTAMP:20260421T153705
DTSTART;VALUE=DATE:20260209
DTEND;VALUE=DATE:20260210
SEQUENCE:0
RRULE:FREQ=DAILY;UNTIL=20260209T000000Z;INTERVAL=1
TRANSP:OPAQUE
END:VEVENT
END:VCALENDAR