BEGIN:VCALENDAR
VERSION:2.0
PRODID:-//jEvents 2.0 for Joomla//EN
CALSCALE:GREGORIAN
METHOD:PUBLISH
BEGIN:VEVENT
UID:3084590815fa8ebae2326d872a915ca7
CATEGORIES:Notice
CREATED:20260113T133941
SUMMARY:Special Council Meeting on Budget 
DESCRIPTION:<p><strong> </strong></p><p><strong>NOTICE</strong></p><p><strong>SPECIAL C
 OUNCIL MEETING</strong></p><p><strong>VILLAGE OF LENNON</strong></p><p> </p
 ><p>THE VILLAGE OF LENNON WILL HOLD A SPECIAL COUNCIL MEETING ON WEDNESDAY,
  JANUARY 21, 2026 AT 6:00 P.M. AT THE VILLAGE OF LENNON VILLAGE HALL LOCATE
 D AT 11904 LENNON RD., LENNON. </p><p>THE PURPOSE OF THE MEETING WILL BE TO
  REVIEW THE 2025-2026 AND 2026-2027 ANNUAL BUDGETS FOR THE GENERAL FUND.</p
 ><p>THE PUBLIC IS ENCOURAGED TO ATTEND. </p><p> </p>
DTSTAMP:20260421T153958
DTSTART;VALUE=DATE:20260121
DTEND;VALUE=DATE:20260123
SEQUENCE:0
TRANSP:OPAQUE
END:VEVENT
END:VCALENDAR