BEGIN:VCALENDAR
VERSION:2.0
PRODID:-//jEvents 2.0 for Joomla//EN
CALSCALE:GREGORIAN
METHOD:PUBLISH
BEGIN:VEVENT
UID:23d07e9249ad625177c72b93f2c7b6c2
CATEGORIES:Notice
CREATED:20251204T131512
SUMMARY:December 8, 2025 Council Meeting 
DESCRIPTION:The Village of Lennon will hold its regularly scheduled council meeting on 
 Monday, December 8, 2025.  The meeting will be held at the Village of Lenno
 n hall located at 11904 Lennon Rd at 6:30 p.m.  \nPublic is encouraged to a
 ttend.    \nAgenda follows \nVillage of LennonCouncil Meeting\nDecember 8, 
 2025\n Agenda \nOpen at 6:30 P.M.\nCall to Order\nPledge of Allegiance\nRol
 l Call\nApproval Minutes of Regular Meeting – November 10, 2025\nApproval o
 f the Agenda\nTreasurer’s Report\nPayment of Bills and Wages \n \nPublic Pa
 rticipation 1: \n \nReports\n\n - Police Commission Report\n - Building Ins
 pector\n - DPW Report/Building &amp; Grounds\n - Around 2 It Services – Cat
 ch Basin Repair Estimate\n - WWS\n - Planning Commission\n - DDA\n - Blight
  Committee\n - Correspondence \nOld business\n \n\n - Village lot   78-008-
 70-074 behind 11636 Lennon Rd (Getcy)- update \nNew Business:     \n \n\n -
  Resolution and signing of CMOM Agreement\n - Expenditure authorization pol
 icy\n - 2025 Holiday Pay (DPW, Police, Building Inspector, Building Cleanin
 g\n - 2025 Council Meeting dates \nPublic Participation 2:  \n             
  \nAdjournment:\n
X-ALT-DESC;FMTTYPE=text/html:<p>The Village of Lennon will hold its regularly scheduled council meeting 
 on Monday, December 8, 2025.  The meeting will be held at the Village of Le
 nnon hall located at 11904 Lennon Rd at 6:30 p.m.  </p><p>Public is encoura
 ged to attend.    </p><p>Agenda follows </p><h2>Village of Lennon</h2><p><s
 trong>Council Meeting</strong></p><p><strong>December 8, 2025</strong></p><
 h1> </h1><h1>Agenda</h1><p> </p><p>Open at 6:30 P.M.</p><p>Call to Order</p
 ><p>Pledge of Allegiance</p><p>Roll Call</p><p>Approval Minutes of Regular 
 Meeting – November 10, 2025</p><p>Approval of the Agenda</p><p>Treasurer’s 
 Report</p><p>Payment of Bills and Wages </p><p><strong> </strong></p><p><st
 rong>Public Participation 1: </strong></p><p> </p><p><strong>Reports</stron
 g></p><ol><li>Police Commission Report</li><li>Building Inspector</li><li>D
 PW Report/Building &amp; Grounds</li><li>Around 2 It Services – Catch Basin
  Repair Estimate</li><li>WWS</li><li>Planning Commission</li><li>DDA</li><l
 i>Blight Committee</li><li>Correspondence</li></ol><p> </p><p><strong>Old b
 usiness</strong></p><p> </p><ol><li>Village lot   78-008-70-074 behind 1163
 6 Lennon Rd (Getcy)- update</li></ol><p><strong> </strong></p><p><strong>Ne
 w Business: </strong>    </p><p> </p><ol><li>Resolution and signing of CMOM
  Agreement</li><li>Expenditure authorization policy</li><li>2025 Holiday Pa
 y (DPW, Police, Building Inspector, Building Cleaning</li><li>2025 Council 
 Meeting dates</li></ol><p> </p><p><strong>Public Participation 2:  </strong
 ></p><p><strong>              </strong></p><p><strong>Adjournment:</strong>
 </p>
DTSTAMP:20260421T184155
DTSTART:20251204T080000
DTEND:20251204T170000
SEQUENCE:0
TRANSP:OPAQUE
END:VEVENT
END:VCALENDAR