BEGIN:VCALENDAR
VERSION:2.0
PRODID:-//jEvents 2.0 for Joomla//EN
CALSCALE:GREGORIAN
METHOD:PUBLISH
BEGIN:VEVENT
UID:19fd275722e0aac86d7c4b8f1616d475
CATEGORIES:Notice
CREATED:19700101T000000
SUMMARY:Public Hearing Ordinance 2025-0901-01
DESCRIPTION:<p><strong>NOTICE FOR PUBLIC HEARING ON ORDINANCE 2025-0901-01 AMENDING THE
  VILLAGE OF LENNON ZONING ORDINANCE TO REGULATE DRIVEWAYS,</strong></p><h1>
 <strong>DRIVEWAY CULVERTS, AND DITCHES WITHIN THE VILLAGE OF LENNON</strong
 ></h1><p>The Village of Lennon located at 11904 E. Lennon Road, Lennon, Mic
 higan 48449, will conduct a public meeting on January 7, 2026, at 6:30 p.m.
  regarding the adoption of the proposed amended Village of Lennon Driveways
 , Driveway Culverts, and Ditches Ordinance. The proposed amended Village of
  Lennon Open Burning Ordinance provides standards and regulations for the i
 nstallation and maintenance of driveways, driveway culverts, and ditches on
  any parcel and in any zoning district in the Village of Lennon. The Villag
 e of Lennon Council will take public comments on the proposed amended Villa
 ge of Lennon Driveways, Driveway Culverts, and Ditches Ordinance at 6:30 p.
 m. on Monday, January 7, 2026, at 6:30 p.m. A complete copy of the proposed
  amended Village of Lennon Driveways, Driveway Culverts, and Ditches Ordina
 nce as well as all corresponding documents and a complete copy of all Villa
 ge of Lennon ordinances can be obtained at the Village of Lennon Hall locat
 ed at 11904 E. Lennon Road, Lennon, Michigan 48449 during business hours an
 d on the Village of Lennon web site at <a href="http://www.villageoflennon.
 com">www.villageoflennon.com</a>.</p><p> </p>
DTSTAMP:20260421T170806
DTSTART;VALUE=DATE:20251202
DTEND;VALUE=DATE:20260109
SEQUENCE:0
RRULE:FREQ=DAILY;UNTIL=20260108T000000Z;INTERVAL=1
TRANSP:OPAQUE
END:VEVENT
END:VCALENDAR