BEGIN:VCALENDAR
VERSION:2.0
PRODID:-//jEvents 2.0 for Joomla//EN
CALSCALE:GREGORIAN
METHOD:PUBLISH
BEGIN:VEVENT
UID:a8b4305131a8218da2f3da8ad9949af1
CATEGORIES:Notice
CREATED:19700101T000000
SUMMARY:October 13, 2025 Council Meeting
DESCRIPTION:The Village of Lennon will hold its monthly Council Meeting on Monday, Octo
 ber 13, 2025 at 6:30 p.m.  The meeting will be held at the Lennon Village H
 all located at 11904 Lennon Rd.  Everyone is encouraged to attend.   \nAgen
 da follows:  \n  Village of LennonCouncil Meeting Agenda\nOctober 13, 2025\
 nAgenda \nOpen at 6:30 P.M.\nCall to Order\nPledge of Allegiance\nRoll Call
 \n \nApproval Minutes of Regular Meeting – September 8, 2025\nApproval Minu
 tes Special Meeting Minutes  - September 15, 2025\nApproval of the Agenda\n
 Treasurer’s Report\nPayment of Bills and Wages \n \nPublic Participation 1:
  \n \n \nReports\n\n - Police Commission Report\n - Building Inspector\n - 
 DPW Report/Building &amp; Grounds\n - WWS\n - Planning Commission/DDA\n - B
 light Committee\n - Correspondence \nOld business\n \n\n - Village lot   78
 -008-70-074 behind 11636 Lennon Rd \n \nNew Business: \n\n - Commercial Lia
 bility Insurance Renewal\n - Halloween Hours (Trunk or Treat) \nPublic Part
 icipation 2:  \n              \nAdjournment:\n \n \n
X-ALT-DESC;FMTTYPE=text/html:<h2><span style="font-size: 18px;">The Village of Lennon will hold its mont
 hly Council Meeting on Monday, October 13, 2025 at 6:30 p.m.  The meeting w
 ill be held at the Lennon Village Hall located at 11904 Lennon Rd.  </span>
 </h2><p><span style="font-size: 18px;"><strong>Everyone is encouraged to at
 tend. </strong>  </span></p><p><strong><span style="font-size: 18px;">Agend
 a follows:  </span></strong></p><h2> </h2><h2> </h2><h2><span style="font-s
 ize: 18px;">Village of Lennon</span></h2><p><span style="font-size: 18px;">
 <strong>Council Meeting Agenda</strong></span></p><p><span style="font-size
 : 18px;"><strong>October 13, 2025</strong></span></p><h1><span style="font-
 size: 18px;">Agenda</span></h1><p> </p><p><strong><span style="font-size: 1
 8px;">Open at 6:30 P.M.</span></strong></p><p><strong><span style="font-siz
 e: 18px;">Call to Order</span></strong></p><p><strong><span style="font-siz
 e: 18px;">Pledge of Allegiance</span></strong></p><p><strong><span style="f
 ont-size: 18px;">Roll Call</span></strong></p><p> </p><p><strong><span styl
 e="font-size: 18px;">Approval Minutes of Regular Meeting – September 8, 202
 5</span></strong></p><p><strong><span style="font-size: 18px;">Approval Min
 utes Special Meeting Minutes  - September 15, 2025</span></strong></p><p><s
 trong><span style="font-size: 18px;">Approval of the Agenda</span></strong>
 </p><p><strong><span style="font-size: 18px;">Treasurer’s Report</span></st
 rong></p><p><strong><span style="font-size: 18px;">Payment of Bills and Wag
 es </span></strong></p><p><strong><span style="font-size: 18px;"> </span></
 strong></p><p><strong><span style="font-size: 18px;">Public Participation 1
 : </span></strong></p><p><strong><span style="font-size: 18px;"> </span></s
 trong></p><p> </p><p><strong><span style="font-size: 18px;">Reports</span><
 /strong></p><ol><li><strong><span style="font-size: 18px;">Police Commissio
 n Report</span></strong></li><li><strong><span style="font-size: 18px;">Bui
 lding Inspector</span></strong></li><li><strong><span style="font-size: 18p
 x;">DPW Report/Building &amp; Grounds</span></strong></li><li><strong><span
  style="font-size: 18px;">WWS</span></strong></li><li><strong><span style="
 font-size: 18px;">Planning Commission/DDA</span></strong></li><li><strong><
 span style="font-size: 18px;">Blight Committee</span></strong></li><li><str
 ong><span style="font-size: 18px;">Correspondence</span></strong></li></ol>
 <p> </p><p><span style="font-size: 18px;"><strong>Old business</strong></sp
 an></p><p> </p><ol><li><strong><span style="font-size: 18px;">Village lot  
  78-008-70-074 behind 11636 Lennon Rd</span></strong></li></ol><p> </p><p><
 span style="font-size: 18px;"><strong> </strong></span></p><p><span style="
 font-size: 18px;"><strong>New Business: </strong></span></p><ol><li><strong
 ><span style="font-size: 18px;">Commercial Liability Insurance Renewal</spa
 n></strong></li><li><strong><span style="font-size: 18px;">Halloween Hours 
 (Trunk or Treat)</span></strong></li></ol><p> </p><p><span style="font-size
 : 18px;"><strong>Public Participation 2:  </strong></span></p><p><span styl
 e="font-size: 18px;"><strong>              </strong></span></p><p><span sty
 le="font-size: 18px;"><strong>Adjournment:</strong></span></p><p> </p><p> <
 /p>
DTSTAMP:20260421T221924
DTSTART;VALUE=DATE:20251008
DTEND;VALUE=DATE:20251015
SEQUENCE:0
RRULE:FREQ=DAILY;UNTIL=20251013T000000Z;INTERVAL=1
TRANSP:OPAQUE
END:VEVENT
END:VCALENDAR