BEGIN:VCALENDAR
VERSION:2.0
PRODID:-//jEvents 2.0 for Joomla//EN
CALSCALE:GREGORIAN
METHOD:PUBLISH
BEGIN:VEVENT
UID:1c5d125d31048482951daa27d5a0bff0
CATEGORIES:Notice
CREATED:19700101T000000
SUMMARY:Special Meeting - Brownfield
DESCRIPTION:<p>SPECIAL NOTICE</p><p>THE VILLAGE OF LENNON WILL HOLD A SPECIAL MEETING O
 N MONDAY, SEPTEMBER 15, 2025, AT 6:00 P.M.  THE MEETING WILL BE HELD AT THE
  VILLAGE OF LENNON HALL LOCATED AT 11904 LENNON RD., LENNON, MI.</p><p> </p
 ><p>THE PURPOSE OF THIS MEETING IS TO DISCUSS THE BROWNFIELD PROJECT.  </p>
 <p> </p><p>ALL ARE ENCOURAGED TO ATTEND. </p>
DTSTAMP:20260421T221934
DTSTART;VALUE=DATE:20250911
DTEND;VALUE=DATE:20250912
SEQUENCE:0
RRULE:FREQ=DAILY;UNTIL=20250916T000000Z;INTERVAL=1
TRANSP:OPAQUE
END:VEVENT
END:VCALENDAR