BEGIN:VCALENDAR
VERSION:2.0
PRODID:-//jEvents 2.0 for Joomla//EN
CALSCALE:GREGORIAN
METHOD:PUBLISH
BEGIN:VEVENT
UID:1210935e3496b0aadb4b34cca52094b2
CATEGORIES:Notice
CREATED:19700101T000000
SUMMARY:Planning Commission Meeting Cancelled
DESCRIPTION:SPECIAL NOTICE\nVILLAGE OF LENNON\n \nTHE PLANNING COMMISSION AND DOWNTOWN 
 DEVELOPMENT AUTHORITY MEETINGS SCHEDULED FOR JULY 9, 2025 AT THE VILLAGE OF
  LENNON HALL ARE CANCELLED DUE TO NO AGENDA ITEMS.   \n
X-ALT-DESC;FMTTYPE=text/html:<p><strong>SPECIAL NOTICE</strong></p><p><strong>VILLAGE OF LENNON</strong>
 </p><p><strong> </strong></p><p><strong>THE PLANNING COMMISSION AND DOWNTOW
 N DEVELOPMENT AUTHORITY MEETINGS SCHEDULED FOR JULY 9, 2025 AT THE VILLAGE 
 OF LENNON HALL ARE CANCELLED DUE TO NO AGENDA ITEMS.   </strong></p>
DTSTAMP:20260421T200808
DTSTART;VALUE=DATE:20250625
DTEND;VALUE=DATE:20250626
SEQUENCE:0
RRULE:FREQ=DAILY;UNTIL=20250710T000000Z;INTERVAL=1
TRANSP:OPAQUE
END:VEVENT
END:VCALENDAR