BEGIN:VCALENDAR
VERSION:2.0
PRODID:-//jEvents 2.0 for Joomla//EN
CALSCALE:GREGORIAN
METHOD:PUBLISH
BEGIN:VEVENT
UID:c92e7438988ee765eb8c9be11ffdfb95
CATEGORIES:Notice
CREATED:19700101T000000
SUMMARY:June 9, 2025 Council Meeting
DESCRIPTION:<h6>Village of Lennon will conduct a public hearing on the proposed 2025-20
 26 budget Monday, June 9, 2025 at 6:00 p.m.   at the Lennon Village Hall lo
 cated at 11904 Lennon Rd. Regular Council meeting to follow at 6:30.   </h6
 ><p> </p><p>Agendas </p><h6>Village of Lennon</h6><p><strong>Public Hearing
  - Proposed 2025-2026 Budget</strong></p><h6>June 9, 2025</h6><p>Agenda:</p
 ><p>Open at 6:00 P.M.</p><p>Call to order</p><p>Pledge of Allegiance Roll-C
 all</p><p>Approval of regular agenda Public Participation:</p><p> </p><p> <
 /p><p>New business:</p><ol><li>2025-2026 Millage Proposal</li><li>. Resolut
 ion to approve millage request – L- 4029</li></ol><p> </p><ol start="2"><li
 >Budget Presentation</li><li>     Resolution to approve Proposed 2025-2026 
 Budget</li></ol><p>     </p><p>          </p><p> </p><p>Public Participatio
 n:</p><p> </p><p> </p><p>Adjournment:</p><h2> </h2><h2>Village of Lennon</h
 2><p><strong>Council Meeting</strong></p><p><strong>June 9, 2025</strong></
 p><h1> </h1><h1>Agenda</h1><p> </p><p>Open at 6:30 P.M.</p><p>Call to Order
 </p><p>Pledge of Allegiance</p><p>Roll Call</p><p> </p><p>Approval Minutes 
 of Regular Meeting – May 12, 2025</p><p>Approval of the Agenda</p><p>Treasu
 rer’s Report</p><p>Payment of Bills and Wages </p><p><strong> </strong></p>
 <p><strong>Public Participation 1: </strong></p><p><strong>Brownfield Prese
 ntation </strong></p><p> </p><p><strong>Reports</strong></p><ol><li>Police 
 Commission Report</li><li>Building Inspector</li><li>DPW Report/Building &a
 mp; Grounds</li><li>WWS</li><li>Planning Commission/DDA</li><li>Blight Comm
 ittee</li><li>Correspondence</li></ol><p> </p><p><strong>Old business:</str
 ong></p><p> </p><p>           </p><p><strong>New Business: </strong></p><ol
 ><li>Resolution to approve 2024-2025 Budget Amendments</li><li>Resolution t
 o approve 2025 Millage L-4029</li><li>Resolution to approve 2025-2026 Budge
 t (Activity Level)</li></ol><p> </p><p> </p><p><strong>Public Participation
  2:  </strong></p><p><strong>              </strong></p><p><strong>Adjournm
 ent:</strong></p><p> </p><p> </p>
DTSTAMP:20260421T190626
DTSTART;VALUE=DATE:20250605
DTEND;VALUE=DATE:20250611
SEQUENCE:0
RRULE:FREQ=DAILY;UNTIL=20250610T000000Z;INTERVAL=1
TRANSP:OPAQUE
END:VEVENT
END:VCALENDAR