BEGIN:VCALENDAR
VERSION:2.0
PRODID:-//jEvents 2.0 for Joomla//EN
CALSCALE:GREGORIAN
METHOD:PUBLISH
BEGIN:VEVENT
UID:da05e42cce50ffa129500f23218078b3
CATEGORIES:Notice
CREATED:19700101T000000
SUMMARY:Budget Workshop
DESCRIPTION:<p>Village of Lennon</p><p>Special Meeting Notice</p><p>Budget Workshop</p>
 <p> </p><p>The Village of Lennon will hold a special meeting on Wednesday, 
 May 21, 2025 at 6:30 p.m.   The purpose of the meeting is to have a budget 
 workshop for the 2025-2026 budget.  </p><p>Public is welcome to attend.  </
 p>
DTSTAMP:20260421T171833
DTSTART;VALUE=DATE:20250519
DTEND;VALUE=DATE:20250523
SEQUENCE:0
RRULE:FREQ=DAILY;UNTIL=20250522T000000Z;INTERVAL=1
TRANSP:OPAQUE
END:VEVENT
END:VCALENDAR