BEGIN:VCALENDAR
VERSION:2.0
PRODID:-//jEvents 2.0 for Joomla//EN
CALSCALE:GREGORIAN
METHOD:PUBLISH
BEGIN:VEVENT
UID:6e196bb7f4bf04fcf5461bcb21221c6a
CATEGORIES:Notice
CREATED:19700101T000000
SUMMARY:March 10, 2025 Council Meeting 
DESCRIPTION:The Village of Lennon will hold its regular monthly Council Meeting on Mond
 ay, March 10, 2025 at 6:30 p.m. at the Lennon Village Hall located at 11904
  Lennon Road.   \nPublic encouraged to attend.   \nAgenda follows:   \nVill
 age of LennonCouncil Meeting\nMarch 10, 2025\n Agenda \nOpen at 6:30 P.M.\n
 Call to Order\nPledge of Allegiance\nRoll Call\n \nApproval of the minutes 
 of Special Meeting February 19, 2025\nApproval Minutes of Regular Meeting –
  February 10, 2025\nApproval of the Agenda\nTreasurer’s Report\nPayment of 
 Bills and Wages \n \n \nPublic Participation 1: \n \n \nReports\n\n - Polic
 e Commission Report\n - Building Inspector\n - DPW Report/Building &amp; Gr
 ounds\n - WWS\n - Planning Commission/DDA\n - Blight Committee\n - Correspo
 ndence \nOld business:\n\n - Second Reading of Ordinance 2024-1111-01 Regul
 ate Portable Storage Containers \n           \nNew Business: \n \nPublic Pa
 rticipation 2:  \n              \nAdjournment:\n \n
X-ALT-DESC;FMTTYPE=text/html:<p>The Village of Lennon will hold its regular monthly Council Meeting on M
 onday, March 10, 2025 at 6:30 p.m. at the Lennon Village Hall located at 11
 904 Lennon Road.   </p><p>Public encouraged to attend.   </p><p><span style
 ="font-size: 18px;"><strong><span style="color: #e03e2d;">Agenda follows: <
 /span></strong></span>  </p><h2>Village of Lennon</h2><p><strong>Council Me
 eting</strong></p><p><strong>March 10, 2025</strong></p><h1> </h1><h1>Agend
 a</h1><p> </p><p>Open at 6:30 P.M.</p><p>Call to Order</p><p>Pledge of Alle
 giance</p><p>Roll Call</p><p> </p><p>Approval of the minutes of Special Mee
 ting February 19, 2025</p><p>Approval Minutes of Regular Meeting – February
  10, 2025</p><p>Approval of the Agenda</p><p>Treasurer’s Report</p><p>Payme
 nt of Bills and Wages </p><p> </p><p><strong> </strong></p><p><strong>Publi
 c Participation 1: </strong></p><p><strong> </strong></p><p> </p><p><strong
 >Reports</strong></p><ol><li>Police Commission Report</li><li>Building Insp
 ector</li><li>DPW Report/Building &amp; Grounds</li><li>WWS</li><li>Plannin
 g Commission/DDA</li><li>Blight Committee</li><li>Correspondence</li></ol><
 p> </p><p><strong>Old business:</strong></p><ol><li>Second Reading of Ordin
 ance 2024-1111-01 Regulate Portable Storage Containers</li></ol><p> </p><p>
            </p><p><strong>New Business: </strong></p><p> </p><p><strong>Pub
 lic Participation 2:  </strong></p><p><strong>              </strong></p><p
 ><strong>Adjournment:</strong></p><p> </p>
DTSTAMP:20260421T190127
DTSTART:20250306T080000
SEQUENCE:0
RRULE:FREQ=DAILY;UNTIL=20250312T000000Z;INTERVAL=1
TRANSP:OPAQUE
END:VEVENT
END:VCALENDAR