BEGIN:VCALENDAR
VERSION:2.0
PRODID:-//jEvents 2.0 for Joomla//EN
CALSCALE:GREGORIAN
METHOD:PUBLISH
BEGIN:VEVENT
UID:bb4fa3e38833867037313b7ebbcd3562
CATEGORIES:Notice
CREATED:19700101T000000
SUMMARY:Special Meeting
DESCRIPTION:SPECIAL COUNCIL MEETING\n \nTHE VILLAGE OF LENNON WILL HOLD A SPECIAL COUNC
 IL MEETING ON FEBRUARY 19, 2025 AT 6:30 P.M.  AT THE LENNON VILLAGE HALL LO
 CATED AT 11904 LENNON ROAD.  \n \nTHE MEETING WILL DISCUSS THE VILLAGE OF L
 ENNON POLICE DEPARTMENT.\n \nPUBLIC IS WELCOME TO ATTEND\n
X-ALT-DESC;FMTTYPE=text/html:<p><strong>SPECIAL COUNCIL MEETING</strong></p><p> </p><p>THE VILLAGE OF LE
 NNON WILL HOLD A SPECIAL COUNCIL MEETING ON FEBRUARY 19, 2025 AT 6:30 P.M. 
  AT THE LENNON VILLAGE HALL LOCATED AT 11904 LENNON ROAD.  </p><p> </p><p>T
 HE MEETING WILL DISCUSS THE VILLAGE OF LENNON POLICE DEPARTMENT.</p><p> </p
 ><p>PUBLIC IS WELCOME TO ATTEND</p>
DTSTAMP:20260421T202717
DTSTART;VALUE=DATE:20250212
DTEND;VALUE=DATE:20250213
SEQUENCE:0
RRULE:FREQ=DAILY;UNTIL=20250220T000000Z;INTERVAL=1
TRANSP:OPAQUE
END:VEVENT
END:VCALENDAR