BEGIN:VCALENDAR
VERSION:2.0
PRODID:-//jEvents 2.0 for Joomla//EN
CALSCALE:GREGORIAN
METHOD:PUBLISH
BEGIN:VEVENT
UID:479bdf2a9210dd9a2bd2c629cf5b383a
CATEGORIES:Notice
CREATED:19700101T000000
SUMMARY:Notice of Public Hearing Ordinance 2024-1111-01 Storage Containers 
DESCRIPTION:NOTICE FOR PUBLIC HEARING ON ORDINANCE 2024-1111-01 AMENDING THE VILLAGE OF
  LENNON ZONING ORDINANCE TO REGULATE PORTABLE STORAGE CONTAINERS IN ALL VIL
 LAGE OF LENNON ZONING DISTRICTS\n \nThe Village of Lennon, located at 11904
  E. Lennon Road, Lennon, Michigan 48449, will conduct a public meeting on F
 ebruary 10, 2025, at 6:30 p.m. regarding the adoption of the proposed amend
 ed Village of Lennon Storage Container Ordinance. The proposed amended Vill
 age of Lennon Storage Container Ordinance provides regulations for the plac
 ement and use of storage containers in all zoning districts of the Village 
 of Lennon. The Village of Lennon Council will take public comments on the p
 roposed Village of Lennon Storage Container Ordinance at 6:30 p.m. on Monda
 y, February 10, 2025, at 6:30 p.m. A complete copy of the proposed amended 
 Village of Lennon Storage Container Ordinance as well as all corresponding 
 documents and a complete copy of all Village of Lennon ordinances can be ob
 tained at the Village of Lennon Hall located at 11904 E. Lennon Road, Lenno
 n, Michigan 48449 during business hours and on the Village of Lennon web si
 te at www.villageoflennon.com. (http://www.villageoflennon.com/)\nThe Propo
 sed Ordinance may be found by following:\nClick on Documents\nClick on Muni
 cipal Code\nClick on Ordinances\nClick on Proposed New Ordinances\nClick on
  Ordinance to Regulate Portable Storage Containers \n
X-ALT-DESC;FMTTYPE=text/html:<p>NOTICE FOR PUBLIC HEARING ON ORDINANCE 2024-1111-01 AMENDING THE VILLAGE
  OF LENNON ZONING ORDINANCE TO REGULATE PORTABLE STORAGE CONTAINERS IN ALL 
 VILLAGE OF LENNON ZONING DISTRICTS</p><p><strong> </strong></p><p>The Villa
 ge of Lennon, located at 11904 E. Lennon Road, Lennon, Michigan 48449, will
  conduct a public meeting on February 10, 2025, at 6:30 p.m. regarding the 
 adoption of the proposed amended Village of Lennon Storage Container Ordina
 nce. The proposed amended Village of Lennon Storage Container Ordinance pro
 vides regulations for the placement and use of storage containers in all zo
 ning districts of the Village of Lennon. The Village of Lennon Council will
  take public comments on the proposed Village of Lennon Storage Container O
 rdinance at 6:30 p.m. on Monday, February 10, 2025, at 6:30 p.m. A complete
  copy of the proposed amended Village of Lennon Storage Container Ordinance
  as well as all corresponding documents and a complete copy of all Village 
 of Lennon ordinances can be obtained at the Village of Lennon Hall located 
 at 11904 E. Lennon Road, Lennon, Michigan 48449 during business hours and o
 n the Village of Lennon web site at <a href="http://www.villageoflennon.com
 /">www.villageoflennon.com.</a></p><p>The Proposed Ordinance may be found b
 y following:</p><p>Click on Documents</p><p>Click on Municipal Code</p><p>C
 lick on Ordinances</p><p>Click on Proposed New Ordinances</p><p>Click on Or
 dinance to Regulate Portable Storage Containers </p>
DTSTAMP:20260421T202831
DTSTART;VALUE=DATE:20250122
DTEND;VALUE=DATE:20250212
SEQUENCE:0
RRULE:FREQ=DAILY;UNTIL=20250210T000000Z;INTERVAL=1
TRANSP:OPAQUE
END:VEVENT
END:VCALENDAR